BEGIN:VCALENDAR
VERSION:2.0
PRODID:-//Finishing Trades Institute of New England - ECPv6.15.20//NONSGML v1.0//EN
CALSCALE:GREGORIAN
METHOD:PUBLISH
X-WR-CALNAME:Finishing Trades Institute of New England
X-ORIGINAL-URL:https://ftine.edu
X-WR-CALDESC:Events for Finishing Trades Institute of New England
REFRESH-INTERVAL;VALUE=DURATION:PT1H
X-Robots-Tag:noindex
X-PUBLISHED-TTL:PT1H
BEGIN:VTIMEZONE
TZID:America/New_York
BEGIN:DAYLIGHT
TZOFFSETFROM:-0500
TZOFFSETTO:-0400
TZNAME:EDT
DTSTART:20230312T070000
END:DAYLIGHT
BEGIN:STANDARD
TZOFFSETFROM:-0400
TZOFFSETTO:-0500
TZNAME:EST
DTSTART:20231105T060000
END:STANDARD
BEGIN:DAYLIGHT
TZOFFSETFROM:-0500
TZOFFSETTO:-0400
TZNAME:EDT
DTSTART:20240310T070000
END:DAYLIGHT
BEGIN:STANDARD
TZOFFSETFROM:-0400
TZOFFSETTO:-0500
TZNAME:EST
DTSTART:20241103T060000
END:STANDARD
BEGIN:DAYLIGHT
TZOFFSETFROM:-0500
TZOFFSETTO:-0400
TZNAME:EDT
DTSTART:20250309T070000
END:DAYLIGHT
BEGIN:STANDARD
TZOFFSETFROM:-0400
TZOFFSETTO:-0500
TZNAME:EST
DTSTART:20251102T060000
END:STANDARD
END:VTIMEZONE
BEGIN:VEVENT
DTSTART;TZID=America/New_York:20241228T080000
DTEND;TZID=America/New_York:20241228T120000
DTSTAMP:20260423T042650
CREATED:20240826T140418Z
LAST-MODIFIED:20241202T143719Z
UID:6705-1735372800-1735387200@ftine.edu
SUMMARY:PFT
DESCRIPTION:Register for this class on https://unite.iupat.org/public/classes/20098
URL:https://ftine.edu/class/pft-54/
LOCATION:Boston MA Training Center\, 25 Colgate Rd\, Roslindale\, MA\, 02131\, United States
ORGANIZER;CN="FTINE":MAILTO:class@ftine.edu
END:VEVENT
BEGIN:VEVENT
DTSTART;TZID=America/New_York:20241228T070000
DTEND;TZID=America/New_York:20241228T150000
DTSTAMP:20260423T042650
CREATED:20240813T212305Z
LAST-MODIFIED:20240813T212305Z
UID:6341-1735369200-1735398000@ftine.edu
SUMMARY:Year 2 Tapers
DESCRIPTION:
URL:https://ftine.edu/class/year-2-tapers-32/
LOCATION:Brentwood NH Training Center\, 34 Commercial Dr.\, Brentwood\, NH\, 03833\, United States
CATEGORIES:Drywall Finishing
ORGANIZER;CN="FTINE":MAILTO:class@ftine.edu
END:VEVENT
BEGIN:VEVENT
DTSTART;TZID=America/New_York:20241221T070000
DTEND;TZID=America/New_York:20241221T150000
DTSTAMP:20260423T042650
CREATED:20240813T212333Z
LAST-MODIFIED:20240813T212333Z
UID:6340-1734764400-1734793200@ftine.edu
SUMMARY:Year 2 Tapers
DESCRIPTION:
URL:https://ftine.edu/class/year-2-tapers-33/
LOCATION:Brentwood NH Training Center\, 34 Commercial Dr.\, Brentwood\, NH\, 03833\, United States
CATEGORIES:Drywall Finishing
ORGANIZER;CN="FTINE":MAILTO:class@ftine.edu
END:VEVENT
BEGIN:VEVENT
DTSTART;TZID=America/New_York:20241221T070000
DTEND;TZID=America/New_York:20241221T070000
DTSTAMP:20260423T042650
CREATED:20240826T140427Z
LAST-MODIFIED:20240826T140427Z
UID:6704-1734764400-1734764400@ftine.edu
SUMMARY:Respiratory Protection
DESCRIPTION:Register for this class on https://unite.iupat.org/public/classes/20098
URL:https://ftine.edu/class/respiratory-protection-9/
LOCATION:Boston MA Training Center\, 25 Colgate Rd\, Roslindale\, MA\, 02131\, United States
CATEGORIES:Health & Safety
ORGANIZER;CN="FTINE":MAILTO:class@ftine.edu
END:VEVENT
BEGIN:VEVENT
DTSTART;TZID=America/New_York:20241216T070000
DTEND;TZID=America/New_York:20241217T153000
DTSTAMP:20260423T042650
CREATED:20240826T140254Z
LAST-MODIFIED:20240826T143314Z
UID:6703-1734332400-1734449400@ftine.edu
SUMMARY:AMPP CAS Full Status Please call Jeremy Allen to register @ 603-479-4379
DESCRIPTION:Please call Jeremy Allen to register @ 603-479-4379
URL:https://ftine.edu/class/ampp-cas-full-status-please-call-jeremy-allen-to-register-603-479-4379/
LOCATION:Brentwood NH Training Center\, 34 Commercial Dr.\, Brentwood\, NH\, 03833\, United States
CATEGORIES:Health & Safety,Journeyman Upgrade
ORGANIZER;CN="FTINE":MAILTO:class@ftine.edu
END:VEVENT
BEGIN:VEVENT
DTSTART;TZID=America/New_York:20241214T110000
DTEND;TZID=America/New_York:20241214T110000
DTSTAMP:20260423T042650
CREATED:20240826T140436Z
LAST-MODIFIED:20240826T140436Z
UID:6702-1734174000-1734174000@ftine.edu
SUMMARY:Silica Awareness
DESCRIPTION:Register for this class on https://unite.iupat.org/public/classes/20098
URL:https://ftine.edu/class/silica-awareness-19/
LOCATION:Boston MA Training Center\, 25 Colgate Rd\, Roslindale\, MA\, 02131\, United States
CATEGORIES:Health & Safety
ORGANIZER;CN="FTINE":MAILTO:class@ftine.edu
END:VEVENT
BEGIN:VEVENT
DTSTART;TZID=America/New_York:20241214T070000
DTEND;TZID=America/New_York:20241214T150000
DTSTAMP:20260423T042650
CREATED:20240813T212401Z
LAST-MODIFIED:20240813T212401Z
UID:6339-1734159600-1734188400@ftine.edu
SUMMARY:Year 2 Tapers
DESCRIPTION:
URL:https://ftine.edu/class/year-2-tapers-34/
LOCATION:Brentwood NH Training Center\, 34 Commercial Dr.\, Brentwood\, NH\, 03833\, United States
CATEGORIES:Drywall Finishing
ORGANIZER;CN="FTINE":MAILTO:class@ftine.edu
END:VEVENT
BEGIN:VEVENT
DTSTART;TZID=America/New_York:20241214T070000
DTEND;TZID=America/New_York:20241214T070000
DTSTAMP:20260423T042650
CREATED:20240826T140449Z
LAST-MODIFIED:20240826T140449Z
UID:6701-1734159600-1734159600@ftine.edu
SUMMARY:PCB Awareness
DESCRIPTION:Register for this class on https://unite.iupat.org/public/classes/20098
URL:https://ftine.edu/class/pcb-awareness-14/
LOCATION:Boston MA Training Center\, 25 Colgate Rd\, Roslindale\, MA\, 02131\, United States
CATEGORIES:Health & Safety
ORGANIZER;CN="FTINE":MAILTO:class@ftine.edu
END:VEVENT
BEGIN:VEVENT
DTSTART;TZID=America/New_York:20241213T070000
DTEND;TZID=America/New_York:20241213T153000
DTSTAMP:20260423T042651
CREATED:20240826T140254Z
LAST-MODIFIED:20240826T143314Z
UID:6700-1734073200-1734103800@ftine.edu
SUMMARY:AMPP (C5) Please call Jeremy Allen to register @ 603-479-4379
DESCRIPTION:Please call Jeremy Allen to register @ 603-479-4379
URL:https://ftine.edu/class/ampp-c5-please-call-jeremy-allen-to-register-603-479-4379-2/
LOCATION:Brentwood NH Training Center\, 34 Commercial Dr.\, Brentwood\, NH\, 03833\, United States
CATEGORIES:Health & Safety,Journeyman Upgrade
ORGANIZER;CN="FTINE":MAILTO:class@ftine.edu
END:VEVENT
BEGIN:VEVENT
DTSTART;TZID=America/New_York:20241211T070000
DTEND;TZID=America/New_York:20241212T200000
DTSTAMP:20260423T042651
CREATED:20240826T140254Z
LAST-MODIFIED:20240826T143318Z
UID:6699-1733900400-1734033600@ftine.edu
SUMMARY:FTI CAS Prep Class Please call Jeremy Allen to register @ 603-479-4379
DESCRIPTION:Please call Jeremy Allen to register @ 603-479-4379
URL:https://ftine.edu/class/fti-cas-prep-class-please-call-jeremy-allen-to-register-603-479-4379/
LOCATION:Brentwood NH Training Center\, 34 Commercial Dr.\, Brentwood\, NH\, 03833\, United States
CATEGORIES:Health & Safety,Journeyman Upgrade
ORGANIZER;CN="FTINE":MAILTO:class@ftine.edu
END:VEVENT
BEGIN:VEVENT
DTSTART;TZID=America/New_York:20241207T070000
DTEND;TZID=America/New_York:20241207T150000
DTSTAMP:20260423T042651
CREATED:20240813T212431Z
LAST-MODIFIED:20240813T212431Z
UID:6338-1733554800-1733583600@ftine.edu
SUMMARY:Year 2 Tapers
DESCRIPTION:
URL:https://ftine.edu/class/year-2-tapers-35/
LOCATION:Brentwood NH Training Center\, 34 Commercial Dr.\, Brentwood\, NH\, 03833\, United States
CATEGORIES:Drywall Finishing
ORGANIZER;CN="FTINE":MAILTO:class@ftine.edu
END:VEVENT
BEGIN:VEVENT
DTSTART;TZID=America/New_York:20241207T070000
DTEND;TZID=America/New_York:20241207T070000
DTSTAMP:20260423T042651
CREATED:20240826T142143Z
LAST-MODIFIED:20240826T142946Z
UID:6698-1733554800-1733554800@ftine.edu
SUMMARY:MEWP Practical Exam For more information or to register\, please contact the FTI training office @ 617-524-0248.
DESCRIPTION:For more information or to register\, please contact the FTI training office @ 617-524-0248. \nMEWP pt.1 \nMEWP pt.2 \nMEWP Practical Exam
URL:https://ftine.edu/class/mewp-practical-exam-for-more-information-or-to-register-please-contact-the-fti-training-office-617-524-0248-7/
LOCATION:Brentwood NH Training Center\, 34 Commercial Dr.\, Brentwood\, NH\, 03833\, United States
CATEGORIES:Health & Safety
ORGANIZER;CN="FTINE":MAILTO:class@ftine.edu
END:VEVENT
BEGIN:VEVENT
DTSTART;TZID=America/New_York:20241206T070000
DTEND;TZID=America/New_York:20241206T150000
DTSTAMP:20260423T042651
CREATED:20240813T212626Z
LAST-MODIFIED:20240813T212626Z
UID:6592-1733468400-1733497200@ftine.edu
SUMMARY:Year 3 Industrial Painters
DESCRIPTION:
URL:https://ftine.edu/class/year-3-industrial-painters-4/2024-12-06/
LOCATION:Brentwood NH Training Center\, 34 Commercial Dr.\, Brentwood\, NH\, 03833\, United States
CATEGORIES:Industrial Painting
ORGANIZER;CN="FTINE":MAILTO:class@ftine.edu
END:VEVENT
BEGIN:VEVENT
DTSTART;TZID=America/New_York:20241206T070000
DTEND;TZID=America/New_York:20241206T150000
DTSTAMP:20260423T042651
CREATED:20240813T212552Z
LAST-MODIFIED:20240813T212552Z
UID:6587-1733468400-1733497200@ftine.edu
SUMMARY:Year 2B Glaziers
DESCRIPTION:
URL:https://ftine.edu/class/year-2b-glaziers-4/2024-12-06/
LOCATION:Brentwood NH Training Center\, 34 Commercial Dr.\, Brentwood\, NH\, 03833\, United States
CATEGORIES:Glazing
ORGANIZER;CN="FTINE":MAILTO:class@ftine.edu
END:VEVENT
BEGIN:VEVENT
DTSTART;TZID=America/New_York:20241206T070000
DTEND;TZID=America/New_York:20241206T150000
DTSTAMP:20260423T042651
CREATED:20240813T212511Z
LAST-MODIFIED:20240813T212511Z
UID:6582-1733468400-1733497200@ftine.edu
SUMMARY:Year 2B Painters
DESCRIPTION:
URL:https://ftine.edu/class/year-2b-painters-2/2024-12-06/
LOCATION:Brentwood NH Training Center\, 34 Commercial Dr.\, Brentwood\, NH\, 03833\, United States
CATEGORIES:Painting
ORGANIZER;CN="FTINE":MAILTO:class@ftine.edu
END:VEVENT
BEGIN:VEVENT
DTSTART;TZID=America/New_York:20241205T170000
DTEND;TZID=America/New_York:20241205T170000
DTSTAMP:20260423T042651
CREATED:20240826T142140Z
LAST-MODIFIED:20240826T142951Z
UID:6697-1733418000-1733418000@ftine.edu
SUMMARY:MEWP pt.2 For more information or to register\, please contact the FTI training office @ 617-524-0248.
DESCRIPTION:For more information or to register\, please contact the FTI training office @ 617-524-0248. \nMEWP pt.1 \nMEWP pt.2 \nMEWP Practical Exam
URL:https://ftine.edu/class/mewp-pt-2-for-more-information-or-to-register-please-contact-the-fti-training-office-617-524-0248-7/
LOCATION:Zoom (Online)
CATEGORIES:Health & Safety
ORGANIZER;CN="FTINE":MAILTO:class@ftine.edu
END:VEVENT
BEGIN:VEVENT
DTSTART;TZID=America/New_York:20241205T070000
DTEND;TZID=America/New_York:20241205T150000
DTSTAMP:20260423T042651
CREATED:20240813T212626Z
LAST-MODIFIED:20240813T212626Z
UID:6591-1733382000-1733410800@ftine.edu
SUMMARY:Year 3 Industrial Painters
DESCRIPTION:
URL:https://ftine.edu/class/year-3-industrial-painters-4/2024-12-05/
LOCATION:Brentwood NH Training Center\, 34 Commercial Dr.\, Brentwood\, NH\, 03833\, United States
CATEGORIES:Industrial Painting
ORGANIZER;CN="FTINE":MAILTO:class@ftine.edu
END:VEVENT
BEGIN:VEVENT
DTSTART;TZID=America/New_York:20241205T070000
DTEND;TZID=America/New_York:20241205T150000
DTSTAMP:20260423T042651
CREATED:20240813T212552Z
LAST-MODIFIED:20240813T212552Z
UID:6586-1733382000-1733410800@ftine.edu
SUMMARY:Year 2B Glaziers
DESCRIPTION:
URL:https://ftine.edu/class/year-2b-glaziers-4/2024-12-05/
LOCATION:Brentwood NH Training Center\, 34 Commercial Dr.\, Brentwood\, NH\, 03833\, United States
CATEGORIES:Glazing
ORGANIZER;CN="FTINE":MAILTO:class@ftine.edu
END:VEVENT
BEGIN:VEVENT
DTSTART;TZID=America/New_York:20241205T070000
DTEND;TZID=America/New_York:20241205T150000
DTSTAMP:20260423T042651
CREATED:20240813T212511Z
LAST-MODIFIED:20240813T212511Z
UID:6581-1733382000-1733410800@ftine.edu
SUMMARY:Year 2B Painters
DESCRIPTION:
URL:https://ftine.edu/class/year-2b-painters-2/2024-12-05/
LOCATION:Brentwood NH Training Center\, 34 Commercial Dr.\, Brentwood\, NH\, 03833\, United States
CATEGORIES:Painting
ORGANIZER;CN="FTINE":MAILTO:class@ftine.edu
END:VEVENT
BEGIN:VEVENT
DTSTART;TZID=America/New_York:20241204T170000
DTEND;TZID=America/New_York:20241204T170000
DTSTAMP:20260423T042651
CREATED:20240826T142140Z
LAST-MODIFIED:20240826T142959Z
UID:6696-1733331600-1733331600@ftine.edu
SUMMARY:MEWP pt.1 For more information or to register\, please contact the FTI training office @ 617-524-0248.
DESCRIPTION:For more information or to register\, please contact the FTI training office @ 617-524-0248. \nMEWP pt.1 \nMEWP pt.2 \nMEWP Practical Exam
URL:https://ftine.edu/class/mewp-pt-1-for-more-information-or-to-register-please-contact-the-fti-training-office-617-524-0248-7/
LOCATION:Zoom (Online)
CATEGORIES:Health & Safety
ORGANIZER;CN="FTINE":MAILTO:class@ftine.edu
END:VEVENT
BEGIN:VEVENT
DTSTART;TZID=America/New_York:20241204T070000
DTEND;TZID=America/New_York:20241204T150000
DTSTAMP:20260423T042651
CREATED:20240813T212626Z
LAST-MODIFIED:20240813T212626Z
UID:6590-1733295600-1733324400@ftine.edu
SUMMARY:Year 3 Industrial Painters
DESCRIPTION:
URL:https://ftine.edu/class/year-3-industrial-painters-4/2024-12-04/
LOCATION:Brentwood NH Training Center\, 34 Commercial Dr.\, Brentwood\, NH\, 03833\, United States
CATEGORIES:Industrial Painting
ORGANIZER;CN="FTINE":MAILTO:class@ftine.edu
END:VEVENT
BEGIN:VEVENT
DTSTART;TZID=America/New_York:20241204T070000
DTEND;TZID=America/New_York:20241204T150000
DTSTAMP:20260423T042651
CREATED:20240813T212552Z
LAST-MODIFIED:20240813T212552Z
UID:6585-1733295600-1733324400@ftine.edu
SUMMARY:Year 2B Glaziers
DESCRIPTION:
URL:https://ftine.edu/class/year-2b-glaziers-4/2024-12-04/
LOCATION:Brentwood NH Training Center\, 34 Commercial Dr.\, Brentwood\, NH\, 03833\, United States
CATEGORIES:Glazing
ORGANIZER;CN="FTINE":MAILTO:class@ftine.edu
END:VEVENT
BEGIN:VEVENT
DTSTART;TZID=America/New_York:20241204T070000
DTEND;TZID=America/New_York:20241204T150000
DTSTAMP:20260423T042651
CREATED:20240813T212511Z
LAST-MODIFIED:20240813T212511Z
UID:6580-1733295600-1733324400@ftine.edu
SUMMARY:Year 2B Painters
DESCRIPTION:
URL:https://ftine.edu/class/year-2b-painters-2/2024-12-04/
LOCATION:Brentwood NH Training Center\, 34 Commercial Dr.\, Brentwood\, NH\, 03833\, United States
CATEGORIES:Painting
ORGANIZER;CN="FTINE":MAILTO:class@ftine.edu
END:VEVENT
BEGIN:VEVENT
DTSTART;TZID=America/New_York:20241203T070000
DTEND;TZID=America/New_York:20241203T150000
DTSTAMP:20260423T042651
CREATED:20240813T212626Z
LAST-MODIFIED:20240813T212626Z
UID:6589-1733209200-1733238000@ftine.edu
SUMMARY:Year 3 Industrial Painters
DESCRIPTION:
URL:https://ftine.edu/class/year-3-industrial-painters-4/2024-12-03/
LOCATION:Brentwood NH Training Center\, 34 Commercial Dr.\, Brentwood\, NH\, 03833\, United States
CATEGORIES:Industrial Painting
ORGANIZER;CN="FTINE":MAILTO:class@ftine.edu
END:VEVENT
BEGIN:VEVENT
DTSTART;TZID=America/New_York:20241203T070000
DTEND;TZID=America/New_York:20241203T150000
DTSTAMP:20260423T042651
CREATED:20240813T212552Z
LAST-MODIFIED:20240813T212552Z
UID:6584-1733209200-1733238000@ftine.edu
SUMMARY:Year 2B Glaziers
DESCRIPTION:
URL:https://ftine.edu/class/year-2b-glaziers-4/2024-12-03/
LOCATION:Brentwood NH Training Center\, 34 Commercial Dr.\, Brentwood\, NH\, 03833\, United States
CATEGORIES:Glazing
ORGANIZER;CN="FTINE":MAILTO:class@ftine.edu
END:VEVENT
BEGIN:VEVENT
DTSTART;TZID=America/New_York:20241203T070000
DTEND;TZID=America/New_York:20241203T150000
DTSTAMP:20260423T042651
CREATED:20240813T212511Z
LAST-MODIFIED:20240813T212511Z
UID:6579-1733209200-1733238000@ftine.edu
SUMMARY:Year 2B Painters
DESCRIPTION:
URL:https://ftine.edu/class/year-2b-painters-2/2024-12-03/
LOCATION:Brentwood NH Training Center\, 34 Commercial Dr.\, Brentwood\, NH\, 03833\, United States
CATEGORIES:Painting
ORGANIZER;CN="FTINE":MAILTO:class@ftine.edu
END:VEVENT
BEGIN:VEVENT
DTSTART;TZID=America/New_York:20241202T070000
DTEND;TZID=America/New_York:20241202T150000
DTSTAMP:20260423T042651
CREATED:20240813T212626Z
LAST-MODIFIED:20240813T212626Z
UID:6337-1733122800-1733151600@ftine.edu
SUMMARY:Year 3 Industrial Painters
DESCRIPTION:
URL:https://ftine.edu/class/year-3-industrial-painters-4/2024-12-02/
LOCATION:Brentwood NH Training Center\, 34 Commercial Dr.\, Brentwood\, NH\, 03833\, United States
CATEGORIES:Industrial Painting
ORGANIZER;CN="FTINE":MAILTO:class@ftine.edu
END:VEVENT
BEGIN:VEVENT
DTSTART;TZID=America/New_York:20241202T070000
DTEND;TZID=America/New_York:20241202T150000
DTSTAMP:20260423T042651
CREATED:20240813T212552Z
LAST-MODIFIED:20240813T212552Z
UID:6336-1733122800-1733151600@ftine.edu
SUMMARY:Year 2B Glaziers
DESCRIPTION:
URL:https://ftine.edu/class/year-2b-glaziers-4/2024-12-02/
LOCATION:Brentwood NH Training Center\, 34 Commercial Dr.\, Brentwood\, NH\, 03833\, United States
CATEGORIES:Glazing
ORGANIZER;CN="FTINE":MAILTO:class@ftine.edu
END:VEVENT
BEGIN:VEVENT
DTSTART;TZID=America/New_York:20241202T070000
DTEND;TZID=America/New_York:20241202T150000
DTSTAMP:20260423T042651
CREATED:20240813T212511Z
LAST-MODIFIED:20240813T212511Z
UID:6335-1733122800-1733151600@ftine.edu
SUMMARY:Year 2B Painters
DESCRIPTION:
URL:https://ftine.edu/class/year-2b-painters-2/2024-12-02/
LOCATION:Brentwood NH Training Center\, 34 Commercial Dr.\, Brentwood\, NH\, 03833\, United States
CATEGORIES:Painting
ORGANIZER;CN="FTINE":MAILTO:class@ftine.edu
END:VEVENT
BEGIN:VEVENT
DTSTART;TZID=America/New_York:20241123T080000
DTEND;TZID=America/New_York:20241123T120000
DTSTAMP:20260423T042651
CREATED:20240826T141013Z
LAST-MODIFIED:20240826T141013Z
UID:6695-1732348800-1732363200@ftine.edu
SUMMARY:PFT
DESCRIPTION:Register for this class on https://unite.iupat.org/public/classes/20098
URL:https://ftine.edu/class/pft-56/
LOCATION:Boston MA Training Center\, 25 Colgate Rd\, Roslindale\, MA\, 02131\, United States
CATEGORIES:Health & Safety
ORGANIZER;CN="FTINE":MAILTO:class@ftine.edu
END:VEVENT
END:VCALENDAR