BEGIN:VCALENDAR
VERSION:2.0
PRODID:-//Finishing Trades Institute of New England - ECPv6.15.20//NONSGML v1.0//EN
CALSCALE:GREGORIAN
METHOD:PUBLISH
X-WR-CALNAME:Finishing Trades Institute of New England
X-ORIGINAL-URL:https://ftine.edu
X-WR-CALDESC:Events for Finishing Trades Institute of New England
REFRESH-INTERVAL;VALUE=DURATION:PT1H
X-Robots-Tag:noindex
X-PUBLISHED-TTL:PT1H
BEGIN:VTIMEZONE
TZID:America/New_York
BEGIN:DAYLIGHT
TZOFFSETFROM:-0500
TZOFFSETTO:-0400
TZNAME:EDT
DTSTART:20240310T070000
END:DAYLIGHT
BEGIN:STANDARD
TZOFFSETFROM:-0400
TZOFFSETTO:-0500
TZNAME:EST
DTSTART:20241103T060000
END:STANDARD
BEGIN:DAYLIGHT
TZOFFSETFROM:-0500
TZOFFSETTO:-0400
TZNAME:EDT
DTSTART:20250309T070000
END:DAYLIGHT
BEGIN:STANDARD
TZOFFSETFROM:-0400
TZOFFSETTO:-0500
TZNAME:EST
DTSTART:20251102T060000
END:STANDARD
BEGIN:DAYLIGHT
TZOFFSETFROM:-0500
TZOFFSETTO:-0400
TZNAME:EDT
DTSTART:20260308T070000
END:DAYLIGHT
BEGIN:STANDARD
TZOFFSETFROM:-0400
TZOFFSETTO:-0500
TZNAME:EST
DTSTART:20261101T060000
END:STANDARD
END:VTIMEZONE
BEGIN:VEVENT
DTSTART;TZID=America/New_York:20250103T070000
DTEND;TZID=America/New_York:20250103T153000
DTSTAMP:20260419T103052
CREATED:20240826T140254Z
LAST-MODIFIED:20240826T143309Z
UID:6706-1735887600-1735918200@ftine.edu
SUMMARY:AMPP (C5) Please call Jeremy Allen to register @ 603-479-4379
DESCRIPTION:Please call Jeremy Allen to register @ 603-479-4379
URL:https://ftine.edu/class/ampp-c5-please-call-jeremy-allen-to-register-603-479-4379-3/
LOCATION:Brentwood NH Training Center\, 34 Commercial Dr.\, Brentwood\, NH\, 03833\, United States
CATEGORIES:Health & Safety,Journeyman Upgrade
ORGANIZER;CN="FTINE":MAILTO:class@ftine.edu
END:VEVENT
BEGIN:VEVENT
DTSTART;TZID=America/New_York:20250104T070000
DTEND;TZID=America/New_York:20250104T150000
DTSTAMP:20260419T103052
CREATED:20240813T212232Z
LAST-MODIFIED:20240813T212232Z
UID:6342-1735974000-1736002800@ftine.edu
SUMMARY:Year 2 Tapers
DESCRIPTION:
URL:https://ftine.edu/class/year-2-tapers-31/
LOCATION:Brentwood NH Training Center\, 34 Commercial Dr.\, Brentwood\, NH\, 03833\, United States
CATEGORIES:Drywall Finishing
ORGANIZER;CN="FTINE":MAILTO:class@ftine.edu
END:VEVENT
BEGIN:VEVENT
DTSTART;TZID=America/New_York:20250104T070000
DTEND;TZID=America/New_York:20250104T150000
DTSTAMP:20260419T103052
CREATED:20241219T151907Z
LAST-MODIFIED:20241219T152256Z
UID:6789-1735974000-1736002800@ftine.edu
SUMMARY:CPR and First Aid
DESCRIPTION:Register for this class on https://unite.iupat.org/public/classes/20098
URL:https://ftine.edu/class/cpr-and-first-aid/
LOCATION:Boston MA Training Center\, 25 Colgate Rd\, Roslindale\, MA\, 02131\, United States
CATEGORIES:Health & Safety
ORGANIZER;CN="FTINE":MAILTO:class@ftine.edu
END:VEVENT
BEGIN:VEVENT
DTSTART;TZID=America/New_York:20250106T070000
DTEND;TZID=America/New_York:20250106T150000
DTSTAMP:20260419T103052
CREATED:20240813T211853Z
LAST-MODIFIED:20240813T211853Z
UID:6343-1736146800-1736175600@ftine.edu
SUMMARY:Year 3 Painters/Tapers
DESCRIPTION:
URL:https://ftine.edu/class/year-3-painters-tapers-4/2025-01-06/
LOCATION:Boston MA Training Center\, 25 Colgate Rd\, Roslindale\, MA\, 02131\, United States
CATEGORIES:Drywall Finishing,Painting
ORGANIZER;CN="FTINE":MAILTO:class@ftine.edu
END:VEVENT
BEGIN:VEVENT
DTSTART;TZID=America/New_York:20250106T070000
DTEND;TZID=America/New_York:20250106T150000
DTSTAMP:20260419T103052
CREATED:20240813T212050Z
LAST-MODIFIED:20240813T212050Z
UID:6344-1736146800-1736175600@ftine.edu
SUMMARY:Year 1A Painters/Tapers
DESCRIPTION:
URL:https://ftine.edu/class/year-1a-painters-tapers-2/2025-01-06/
LOCATION:Brentwood NH Training Center\, 34 Commercial Dr.\, Brentwood\, NH\, 03833\, United States
CATEGORIES:Drywall Finishing,Painting
ORGANIZER;CN="FTINE":MAILTO:class@ftine.edu
END:VEVENT
BEGIN:VEVENT
DTSTART;TZID=America/New_York:20250106T070000
DTEND;TZID=America/New_York:20250106T150000
DTSTAMP:20260419T103052
CREATED:20240813T212125Z
LAST-MODIFIED:20240813T212125Z
UID:6345-1736146800-1736175600@ftine.edu
SUMMARY:Year 3A Glaziers
DESCRIPTION:
URL:https://ftine.edu/class/year-3a-glaziers-2/2025-01-06/
LOCATION:Boston MA Training Center\, 25 Colgate Rd\, Roslindale\, MA\, 02131\, United States
CATEGORIES:Glazing
ORGANIZER;CN="FTINE":MAILTO:class@ftine.edu
END:VEVENT
BEGIN:VEVENT
DTSTART;TZID=America/New_York:20250106T070000
DTEND;TZID=America/New_York:20250106T150000
DTSTAMP:20260419T103052
CREATED:20240813T212201Z
LAST-MODIFIED:20240813T212201Z
UID:6346-1736146800-1736175600@ftine.edu
SUMMARY:Year 1 Industrial Painters
DESCRIPTION:
URL:https://ftine.edu/class/year-1-industrial-painters-3/2025-01-06/
LOCATION:Brentwood NH Training Center\, 34 Commercial Dr.\, Brentwood\, NH\, 03833\, United States
CATEGORIES:Industrial Painting
ORGANIZER;CN="FTINE":MAILTO:class@ftine.edu
END:VEVENT
BEGIN:VEVENT
DTSTART;TZID=America/New_York:20250107T070000
DTEND;TZID=America/New_York:20250107T150000
DTSTAMP:20260419T103052
CREATED:20240813T211853Z
LAST-MODIFIED:20240813T211853Z
UID:6554-1736233200-1736262000@ftine.edu
SUMMARY:Year 3 Painters/Tapers
DESCRIPTION:
URL:https://ftine.edu/class/year-3-painters-tapers-4/2025-01-07/
LOCATION:Boston MA Training Center\, 25 Colgate Rd\, Roslindale\, MA\, 02131\, United States
CATEGORIES:Drywall Finishing,Painting
ORGANIZER;CN="FTINE":MAILTO:class@ftine.edu
END:VEVENT
BEGIN:VEVENT
DTSTART;TZID=America/New_York:20250107T070000
DTEND;TZID=America/New_York:20250107T150000
DTSTAMP:20260419T103052
CREATED:20240813T212050Z
LAST-MODIFIED:20240813T212050Z
UID:6559-1736233200-1736262000@ftine.edu
SUMMARY:Year 1A Painters/Tapers
DESCRIPTION:
URL:https://ftine.edu/class/year-1a-painters-tapers-2/2025-01-07/
LOCATION:Brentwood NH Training Center\, 34 Commercial Dr.\, Brentwood\, NH\, 03833\, United States
CATEGORIES:Drywall Finishing,Painting
ORGANIZER;CN="FTINE":MAILTO:class@ftine.edu
END:VEVENT
BEGIN:VEVENT
DTSTART;TZID=America/New_York:20250107T070000
DTEND;TZID=America/New_York:20250107T150000
DTSTAMP:20260419T103052
CREATED:20240813T212125Z
LAST-MODIFIED:20240813T212125Z
UID:6564-1736233200-1736262000@ftine.edu
SUMMARY:Year 3A Glaziers
DESCRIPTION:
URL:https://ftine.edu/class/year-3a-glaziers-2/2025-01-07/
LOCATION:Boston MA Training Center\, 25 Colgate Rd\, Roslindale\, MA\, 02131\, United States
CATEGORIES:Glazing
ORGANIZER;CN="FTINE":MAILTO:class@ftine.edu
END:VEVENT
BEGIN:VEVENT
DTSTART;TZID=America/New_York:20250107T070000
DTEND;TZID=America/New_York:20250107T150000
DTSTAMP:20260419T103052
CREATED:20240813T212201Z
LAST-MODIFIED:20240813T212201Z
UID:6569-1736233200-1736262000@ftine.edu
SUMMARY:Year 1 Industrial Painters
DESCRIPTION:
URL:https://ftine.edu/class/year-1-industrial-painters-3/2025-01-07/
LOCATION:Brentwood NH Training Center\, 34 Commercial Dr.\, Brentwood\, NH\, 03833\, United States
CATEGORIES:Industrial Painting
ORGANIZER;CN="FTINE":MAILTO:class@ftine.edu
END:VEVENT
BEGIN:VEVENT
DTSTART;TZID=America/New_York:20250108T070000
DTEND;TZID=America/New_York:20250108T150000
DTSTAMP:20260419T103052
CREATED:20240813T211853Z
LAST-MODIFIED:20240813T211853Z
UID:6555-1736319600-1736348400@ftine.edu
SUMMARY:Year 3 Painters/Tapers
DESCRIPTION:
URL:https://ftine.edu/class/year-3-painters-tapers-4/2025-01-08/
LOCATION:Boston MA Training Center\, 25 Colgate Rd\, Roslindale\, MA\, 02131\, United States
CATEGORIES:Drywall Finishing,Painting
ORGANIZER;CN="FTINE":MAILTO:class@ftine.edu
END:VEVENT
BEGIN:VEVENT
DTSTART;TZID=America/New_York:20250108T070000
DTEND;TZID=America/New_York:20250108T150000
DTSTAMP:20260419T103052
CREATED:20240813T212050Z
LAST-MODIFIED:20240813T212050Z
UID:6560-1736319600-1736348400@ftine.edu
SUMMARY:Year 1A Painters/Tapers
DESCRIPTION:
URL:https://ftine.edu/class/year-1a-painters-tapers-2/2025-01-08/
LOCATION:Brentwood NH Training Center\, 34 Commercial Dr.\, Brentwood\, NH\, 03833\, United States
CATEGORIES:Drywall Finishing,Painting
ORGANIZER;CN="FTINE":MAILTO:class@ftine.edu
END:VEVENT
BEGIN:VEVENT
DTSTART;TZID=America/New_York:20250108T070000
DTEND;TZID=America/New_York:20250108T150000
DTSTAMP:20260419T103052
CREATED:20240813T212125Z
LAST-MODIFIED:20240813T212125Z
UID:6565-1736319600-1736348400@ftine.edu
SUMMARY:Year 3A Glaziers
DESCRIPTION:
URL:https://ftine.edu/class/year-3a-glaziers-2/2025-01-08/
LOCATION:Boston MA Training Center\, 25 Colgate Rd\, Roslindale\, MA\, 02131\, United States
CATEGORIES:Glazing
ORGANIZER;CN="FTINE":MAILTO:class@ftine.edu
END:VEVENT
BEGIN:VEVENT
DTSTART;TZID=America/New_York:20250108T070000
DTEND;TZID=America/New_York:20250108T150000
DTSTAMP:20260419T103052
CREATED:20240813T212201Z
LAST-MODIFIED:20240813T212201Z
UID:6570-1736319600-1736348400@ftine.edu
SUMMARY:Year 1 Industrial Painters
DESCRIPTION:
URL:https://ftine.edu/class/year-1-industrial-painters-3/2025-01-08/
LOCATION:Brentwood NH Training Center\, 34 Commercial Dr.\, Brentwood\, NH\, 03833\, United States
CATEGORIES:Industrial Painting
ORGANIZER;CN="FTINE":MAILTO:class@ftine.edu
END:VEVENT
BEGIN:VEVENT
DTSTART;TZID=America/New_York:20250108T170000
DTEND;TZID=America/New_York:20250108T200000
DTSTAMP:20260419T103052
CREATED:20241219T151907Z
LAST-MODIFIED:20241219T152808Z
UID:6790-1736355600-1736366400@ftine.edu
SUMMARY:MEWP pt.1 For more information or to register\, please contact the FTI training office @ 617-524-0248.
DESCRIPTION:For more information or to register\, please contact the FTI training office @ 617-524-0248. \nMEWP pt.1\nMEWP pt.2\nMEWP Practical Exam
URL:https://ftine.edu/class/mewp-pt-1-for-more-information-or-to-register-please-contact-the-fti-training-office-617-524-0248-8/
LOCATION:Zoom (Online)
CATEGORIES:Health & Safety
ORGANIZER;CN="FTINE":MAILTO:class@ftine.edu
END:VEVENT
BEGIN:VEVENT
DTSTART;TZID=America/New_York:20250109T070000
DTEND;TZID=America/New_York:20250109T150000
DTSTAMP:20260419T103052
CREATED:20240813T211853Z
LAST-MODIFIED:20240813T211853Z
UID:6556-1736406000-1736434800@ftine.edu
SUMMARY:Year 3 Painters/Tapers
DESCRIPTION:
URL:https://ftine.edu/class/year-3-painters-tapers-4/2025-01-09/
LOCATION:Boston MA Training Center\, 25 Colgate Rd\, Roslindale\, MA\, 02131\, United States
CATEGORIES:Drywall Finishing,Painting
ORGANIZER;CN="FTINE":MAILTO:class@ftine.edu
END:VEVENT
BEGIN:VEVENT
DTSTART;TZID=America/New_York:20250109T070000
DTEND;TZID=America/New_York:20250109T150000
DTSTAMP:20260419T103052
CREATED:20240813T212050Z
LAST-MODIFIED:20240813T212050Z
UID:6561-1736406000-1736434800@ftine.edu
SUMMARY:Year 1A Painters/Tapers
DESCRIPTION:
URL:https://ftine.edu/class/year-1a-painters-tapers-2/2025-01-09/
LOCATION:Brentwood NH Training Center\, 34 Commercial Dr.\, Brentwood\, NH\, 03833\, United States
CATEGORIES:Drywall Finishing,Painting
ORGANIZER;CN="FTINE":MAILTO:class@ftine.edu
END:VEVENT
BEGIN:VEVENT
DTSTART;TZID=America/New_York:20250109T070000
DTEND;TZID=America/New_York:20250109T150000
DTSTAMP:20260419T103052
CREATED:20240813T212125Z
LAST-MODIFIED:20240813T212125Z
UID:6566-1736406000-1736434800@ftine.edu
SUMMARY:Year 3A Glaziers
DESCRIPTION:
URL:https://ftine.edu/class/year-3a-glaziers-2/2025-01-09/
LOCATION:Boston MA Training Center\, 25 Colgate Rd\, Roslindale\, MA\, 02131\, United States
CATEGORIES:Glazing
ORGANIZER;CN="FTINE":MAILTO:class@ftine.edu
END:VEVENT
BEGIN:VEVENT
DTSTART;TZID=America/New_York:20250109T070000
DTEND;TZID=America/New_York:20250109T150000
DTSTAMP:20260419T103052
CREATED:20240813T212201Z
LAST-MODIFIED:20240813T212201Z
UID:6571-1736406000-1736434800@ftine.edu
SUMMARY:Year 1 Industrial Painters
DESCRIPTION:
URL:https://ftine.edu/class/year-1-industrial-painters-3/2025-01-09/
LOCATION:Brentwood NH Training Center\, 34 Commercial Dr.\, Brentwood\, NH\, 03833\, United States
CATEGORIES:Industrial Painting
ORGANIZER;CN="FTINE":MAILTO:class@ftine.edu
END:VEVENT
BEGIN:VEVENT
DTSTART;TZID=America/New_York:20250109T170000
DTEND;TZID=America/New_York:20250109T200000
DTSTAMP:20260419T103052
CREATED:20241219T151907Z
LAST-MODIFIED:20241219T152817Z
UID:6791-1736442000-1736452800@ftine.edu
SUMMARY:MEWP pt.2 For more information or to register\, please contact the FTI training office @ 617-524-0248.
DESCRIPTION:For more information or to register\, please contact the FTI training office @ 617-524-0248. \nMEWP pt.1\nMEWP pt.2\nMEWP Practical Exam
URL:https://ftine.edu/class/mewp-pt-2-for-more-information-or-to-register-please-contact-the-fti-training-office-617-524-0248-8/
LOCATION:MA
CATEGORIES:Health & Safety
ORGANIZER;CN="FTINE":MAILTO:class@ftine.edu
END:VEVENT
BEGIN:VEVENT
DTSTART;TZID=America/New_York:20250110T070000
DTEND;TZID=America/New_York:20250110T150000
DTSTAMP:20260419T103052
CREATED:20240813T211853Z
LAST-MODIFIED:20240813T211853Z
UID:6557-1736492400-1736521200@ftine.edu
SUMMARY:Year 3 Painters/Tapers
DESCRIPTION:
URL:https://ftine.edu/class/year-3-painters-tapers-4/2025-01-10/
LOCATION:Boston MA Training Center\, 25 Colgate Rd\, Roslindale\, MA\, 02131\, United States
CATEGORIES:Drywall Finishing,Painting
ORGANIZER;CN="FTINE":MAILTO:class@ftine.edu
END:VEVENT
BEGIN:VEVENT
DTSTART;TZID=America/New_York:20250110T070000
DTEND;TZID=America/New_York:20250110T150000
DTSTAMP:20260419T103052
CREATED:20240813T212050Z
LAST-MODIFIED:20240813T212050Z
UID:6562-1736492400-1736521200@ftine.edu
SUMMARY:Year 1A Painters/Tapers
DESCRIPTION:
URL:https://ftine.edu/class/year-1a-painters-tapers-2/2025-01-10/
LOCATION:Brentwood NH Training Center\, 34 Commercial Dr.\, Brentwood\, NH\, 03833\, United States
CATEGORIES:Drywall Finishing,Painting
ORGANIZER;CN="FTINE":MAILTO:class@ftine.edu
END:VEVENT
BEGIN:VEVENT
DTSTART;TZID=America/New_York:20250110T070000
DTEND;TZID=America/New_York:20250110T150000
DTSTAMP:20260419T103052
CREATED:20240813T212125Z
LAST-MODIFIED:20240813T212125Z
UID:6567-1736492400-1736521200@ftine.edu
SUMMARY:Year 3A Glaziers
DESCRIPTION:
URL:https://ftine.edu/class/year-3a-glaziers-2/2025-01-10/
LOCATION:Boston MA Training Center\, 25 Colgate Rd\, Roslindale\, MA\, 02131\, United States
CATEGORIES:Glazing
ORGANIZER;CN="FTINE":MAILTO:class@ftine.edu
END:VEVENT
BEGIN:VEVENT
DTSTART;TZID=America/New_York:20250110T070000
DTEND;TZID=America/New_York:20250110T150000
DTSTAMP:20260419T103052
CREATED:20240813T212201Z
LAST-MODIFIED:20240813T212201Z
UID:6572-1736492400-1736521200@ftine.edu
SUMMARY:Year 1 Industrial Painters
DESCRIPTION:
URL:https://ftine.edu/class/year-1-industrial-painters-3/2025-01-10/
LOCATION:Brentwood NH Training Center\, 34 Commercial Dr.\, Brentwood\, NH\, 03833\, United States
CATEGORIES:Industrial Painting
ORGANIZER;CN="FTINE":MAILTO:class@ftine.edu
END:VEVENT
BEGIN:VEVENT
DTSTART;TZID=America/New_York:20250111T070000
DTEND;TZID=America/New_York:20250111T130000
DTSTAMP:20260419T103052
CREATED:20241219T151908Z
LAST-MODIFIED:20241219T152825Z
UID:6792-1736578800-1736600400@ftine.edu
SUMMARY:MEWP Practical Exam For more information or to register\, please contact the FTI training office @ 617-524-0248.
DESCRIPTION:For more information or to register\, please contact the FTI training office @ 617-524-0248. \nMEWP pt.1\nMEWP pt.2\nMEWP Practical Exam
URL:https://ftine.edu/class/mewp-practical-exam-for-more-information-or-to-register-please-contact-the-fti-training-office-617-524-0248-8/
LOCATION:Brentwood NH Training Center\, 34 Commercial Dr.\, Brentwood\, NH\, 03833\, United States
CATEGORIES:Health & Safety
ORGANIZER;CN="FTINE":MAILTO:class@ftine.edu
END:VEVENT
BEGIN:VEVENT
DTSTART;TZID=America/New_York:20250111T070000
DTEND;TZID=America/New_York:20250111T150000
DTSTAMP:20260419T103052
CREATED:20240813T211817Z
LAST-MODIFIED:20240813T211817Z
UID:6347-1736578800-1736607600@ftine.edu
SUMMARY:Year 2 Tapers
DESCRIPTION:
URL:https://ftine.edu/class/year-2-tapers-30/
LOCATION:Brentwood NH Training Center\, 34 Commercial Dr.\, Brentwood\, NH\, 03833\, United States
CATEGORIES:Drywall Finishing
ORGANIZER;CN="FTINE":MAILTO:class@ftine.edu
END:VEVENT
BEGIN:VEVENT
DTSTART;TZID=America/New_York:20250113T070000
DTEND;TZID=America/New_York:20250116T153000
DTSTAMP:20260419T103052
CREATED:20240826T140255Z
LAST-MODIFIED:20251124T175934Z
UID:6707-1736751600-1737041400@ftine.edu
SUMMARY:AMPP Plural Component (C14) Please call Jeremy Allen to register @ 603-479-4379
DESCRIPTION:Please call Jeremy Allen to register @ 603-479-4379
URL:https://ftine.edu/class/ampp-plural-component-c14-please-call-jeremy-allen-to-register-603-479-4379/2025-01-13/
LOCATION:Brentwood NH Training Center\, 34 Commercial Dr.\, Brentwood\, NH\, 03833\, United States
CATEGORIES:Health & Safety
ORGANIZER;CN="FTINE":MAILTO:class@ftine.edu
END:VEVENT
BEGIN:VEVENT
DTSTART;TZID=America/New_York:20250114T150000
DTEND;TZID=America/New_York:20250114T190000
DTSTAMP:20260419T103052
CREATED:20241219T151908Z
LAST-MODIFIED:20241219T152344Z
UID:6793-1736866800-1736881200@ftine.edu
SUMMARY:Hoisting Continuing Ed
DESCRIPTION:Register for this class on https://unite.iupat.org/public/classes/20098
URL:https://ftine.edu/class/hoisting-continuing-ed-19/
LOCATION:Brentwood NH Training Center\, 34 Commercial Dr.\, Brentwood\, NH\, 03833\, United States
CATEGORIES:Health & Safety
ORGANIZER;CN="FTINE":MAILTO:class@ftine.edu
END:VEVENT
BEGIN:VEVENT
DTSTART;TZID=America/New_York:20250114T150000
DTEND;TZID=America/New_York:20250114T190000
DTSTAMP:20260419T103052
CREATED:20241219T151910Z
LAST-MODIFIED:20250114T143718Z
UID:6794-1736866800-1736881200@ftine.edu
SUMMARY:PFT
DESCRIPTION:Register for this class on https://unite.iupat.org/public/classes/20097
URL:https://ftine.edu/class/pft-57/
LOCATION:Brentwood NH Training Center\, 34 Commercial Dr.\, Brentwood\, NH\, 03833\, United States
CATEGORIES:Health & Safety
ORGANIZER;CN="FTINE":MAILTO:class@ftine.edu
END:VEVENT
END:VCALENDAR