BEGIN:VCALENDAR
VERSION:2.0
PRODID:-//Finishing Trades Institute of New England - ECPv6.15.20//NONSGML v1.0//EN
CALSCALE:GREGORIAN
METHOD:PUBLISH
X-ORIGINAL-URL:https://ftine.edu
X-WR-CALDESC:Events for Finishing Trades Institute of New England
REFRESH-INTERVAL;VALUE=DURATION:PT1H
X-Robots-Tag:noindex
X-PUBLISHED-TTL:PT1H
BEGIN:VTIMEZONE
TZID:America/New_York
BEGIN:DAYLIGHT
TZOFFSETFROM:-0500
TZOFFSETTO:-0400
TZNAME:EDT
DTSTART:20240310T070000
END:DAYLIGHT
BEGIN:STANDARD
TZOFFSETFROM:-0400
TZOFFSETTO:-0500
TZNAME:EST
DTSTART:20241103T060000
END:STANDARD
BEGIN:DAYLIGHT
TZOFFSETFROM:-0500
TZOFFSETTO:-0400
TZNAME:EDT
DTSTART:20250309T070000
END:DAYLIGHT
BEGIN:STANDARD
TZOFFSETFROM:-0400
TZOFFSETTO:-0500
TZNAME:EST
DTSTART:20251102T060000
END:STANDARD
BEGIN:DAYLIGHT
TZOFFSETFROM:-0500
TZOFFSETTO:-0400
TZNAME:EDT
DTSTART:20260308T070000
END:DAYLIGHT
BEGIN:STANDARD
TZOFFSETFROM:-0400
TZOFFSETTO:-0500
TZNAME:EST
DTSTART:20261101T060000
END:STANDARD
END:VTIMEZONE
BEGIN:VEVENT
DTSTART;TZID=America/New_York:20250122T070000
DTEND;TZID=America/New_York:20250122T150000
DTSTAMP:20260423T041409
CREATED:20240813T211712Z
LAST-MODIFIED:20240813T211712Z
UID:6548-1737529200-1737558000@ftine.edu
SUMMARY:Year 2A Industrial Painters
DESCRIPTION:
URL:https://ftine.edu/class/year-2a-industrial-painters-3/2025-01-22/
LOCATION:Brentwood NH Training Center\, 34 Commercial Dr.\, Brentwood\, NH\, 03833\, United States
CATEGORIES:Industrial Painting
ORGANIZER;CN="FTINE":MAILTO:class@ftine.edu
END:VEVENT
BEGIN:VEVENT
DTSTART;TZID=America/New_York:20250123T070000
DTEND;TZID=America/New_York:20250123T150000
DTSTAMP:20260423T041409
CREATED:20240813T211514Z
LAST-MODIFIED:20240813T211514Z
UID:6539-1737615600-1737644400@ftine.edu
SUMMARY:Year 1B Painters/Tapers
DESCRIPTION:
URL:https://ftine.edu/class/year-1b-painters-tapers-2/2025-01-23/
LOCATION:Brentwood NH Training Center\, 34 Commercial Dr.\, Brentwood\, NH\, 03833\, United States
CATEGORIES:Drywall Finishing,Painting
ORGANIZER;CN="FTINE":MAILTO:class@ftine.edu
END:VEVENT
BEGIN:VEVENT
DTSTART;TZID=America/New_York:20250123T070000
DTEND;TZID=America/New_York:20250123T150000
DTSTAMP:20260423T041409
CREATED:20240813T211601Z
LAST-MODIFIED:20240813T211601Z
UID:6544-1737615600-1737644400@ftine.edu
SUMMARY:Year 1A Glaziers
DESCRIPTION:
URL:https://ftine.edu/class/year-1a-glaziers-6/2025-01-23/
LOCATION:Brentwood NH Training Center\, 34 Commercial Dr.\, Brentwood\, NH\, 03833\, United States
CATEGORIES:Glazing
ORGANIZER;CN="FTINE":MAILTO:class@ftine.edu
END:VEVENT
BEGIN:VEVENT
DTSTART;TZID=America/New_York:20250123T070000
DTEND;TZID=America/New_York:20250123T150000
DTSTAMP:20260423T041409
CREATED:20240813T211712Z
LAST-MODIFIED:20240813T211712Z
UID:6549-1737615600-1737644400@ftine.edu
SUMMARY:Year 2A Industrial Painters
DESCRIPTION:
URL:https://ftine.edu/class/year-2a-industrial-painters-3/2025-01-23/
LOCATION:Brentwood NH Training Center\, 34 Commercial Dr.\, Brentwood\, NH\, 03833\, United States
CATEGORIES:Industrial Painting
ORGANIZER;CN="FTINE":MAILTO:class@ftine.edu
END:VEVENT
BEGIN:VEVENT
DTSTART;TZID=America/New_York:20250124T070000
DTEND;TZID=America/New_York:20250124T150000
DTSTAMP:20260423T041409
CREATED:20240813T211514Z
LAST-MODIFIED:20240813T211514Z
UID:6540-1737702000-1737730800@ftine.edu
SUMMARY:Year 1B Painters/Tapers
DESCRIPTION:
URL:https://ftine.edu/class/year-1b-painters-tapers-2/2025-01-24/
LOCATION:Brentwood NH Training Center\, 34 Commercial Dr.\, Brentwood\, NH\, 03833\, United States
CATEGORIES:Drywall Finishing,Painting
ORGANIZER;CN="FTINE":MAILTO:class@ftine.edu
END:VEVENT
BEGIN:VEVENT
DTSTART;TZID=America/New_York:20250124T070000
DTEND;TZID=America/New_York:20250124T150000
DTSTAMP:20260423T041409
CREATED:20240813T211601Z
LAST-MODIFIED:20240813T211601Z
UID:6545-1737702000-1737730800@ftine.edu
SUMMARY:Year 1A Glaziers
DESCRIPTION:
URL:https://ftine.edu/class/year-1a-glaziers-6/2025-01-24/
LOCATION:Brentwood NH Training Center\, 34 Commercial Dr.\, Brentwood\, NH\, 03833\, United States
CATEGORIES:Glazing
ORGANIZER;CN="FTINE":MAILTO:class@ftine.edu
END:VEVENT
BEGIN:VEVENT
DTSTART;TZID=America/New_York:20250124T070000
DTEND;TZID=America/New_York:20250124T150000
DTSTAMP:20260423T041409
CREATED:20240813T211712Z
LAST-MODIFIED:20240813T211712Z
UID:6550-1737702000-1737730800@ftine.edu
SUMMARY:Year 2A Industrial Painters
DESCRIPTION:
URL:https://ftine.edu/class/year-2a-industrial-painters-3/2025-01-24/
LOCATION:Brentwood NH Training Center\, 34 Commercial Dr.\, Brentwood\, NH\, 03833\, United States
CATEGORIES:Industrial Painting
ORGANIZER;CN="FTINE":MAILTO:class@ftine.edu
END:VEVENT
BEGIN:VEVENT
DTSTART;TZID=America/New_York:20250125T070000
DTEND;TZID=America/New_York:20250125T150000
DTSTAMP:20260423T041409
CREATED:20240813T211423Z
LAST-MODIFIED:20240813T211423Z
UID:6352-1737788400-1737817200@ftine.edu
SUMMARY:Year 2 Tapers
DESCRIPTION:
URL:https://ftine.edu/class/year-2-tapers-28/
LOCATION:Brentwood NH Training Center\, 34 Commercial Dr.\, Brentwood\, NH\, 03833\, United States
CATEGORIES:Drywall Finishing
ORGANIZER;CN="FTINE":MAILTO:class@ftine.edu
END:VEVENT
BEGIN:VEVENT
DTSTART;TZID=America/New_York:20250125T080000
DTEND;TZID=America/New_York:20250125T120000
DTSTAMP:20260423T041409
CREATED:20241219T151911Z
LAST-MODIFIED:20250218T210258Z
UID:6796-1737792000-1737806400@ftine.edu
SUMMARY:Hoisting Continuing Ed
DESCRIPTION:For more information or to register\, please contact the FTI training office @ 617-524-0248.
URL:https://ftine.edu/class/hoisting-continuing-ed-20/
LOCATION:Boston MA Training Center\, 25 Colgate Rd\, Roslindale\, MA\, 02131\, United States
CATEGORIES:Health & Safety
ORGANIZER;CN="FTINE":MAILTO:class@ftine.edu
END:VEVENT
BEGIN:VEVENT
DTSTART;TZID=America/New_York:20250125T080000
DTEND;TZID=America/New_York:20250125T120000
DTSTAMP:20260423T041409
CREATED:20241219T151911Z
LAST-MODIFIED:20241219T152406Z
UID:6797-1737792000-1737806400@ftine.edu
SUMMARY:PFT
DESCRIPTION:Register for this class on https://unite.iupat.org/public/classes/20098
URL:https://ftine.edu/class/pft-58/
LOCATION:Boston MA Training Center\, 25 Colgate Rd\, Roslindale\, MA\, 02131\, United States
CATEGORIES:Health & Safety
ORGANIZER;CN="FTINE":MAILTO:class@ftine.edu
END:VEVENT
BEGIN:VEVENT
DTSTART;TZID=America/New_York:20250129T070000
DTEND;TZID=America/New_York:20250130T200000
DTSTAMP:20260423T041410
CREATED:20240826T140255Z
LAST-MODIFIED:20240826T143300Z
UID:6708-1738134000-1738267200@ftine.edu
SUMMARY:FTI CAS Prep Class Please call Jeremy Allen to register @ 603-479-4379
DESCRIPTION:Please call Jeremy Allen to register @ 603-479-4379
URL:https://ftine.edu/class/fti-cas-prep-class-please-call-jeremy-allen-to-register-603-479-4379-2/
LOCATION:Brentwood NH Training Center\, 34 Commercial Dr.\, Brentwood\, NH\, 03833\, United States
CATEGORIES:Health & Safety,Journeyman Upgrade
ORGANIZER;CN="FTINE":MAILTO:class@ftine.edu
END:VEVENT
BEGIN:VEVENT
DTSTART;TZID=America/New_York:20250129T170000
DTEND;TZID=America/New_York:20250129T200000
DTSTAMP:20260423T041410
CREATED:20241219T151912Z
LAST-MODIFIED:20241219T153001Z
UID:6798-1738170000-1738180800@ftine.edu
SUMMARY:MEWP pt.1 For more information or to register\, please contact the FTI training office @ 617-524-0248.
DESCRIPTION:For more information or to register\, please contact the FTI training office @ 617-524-0248. \nMEWP pt.1\nMEWP pt.2\nMEWP Practical Exam
URL:https://ftine.edu/class/mewp-pt-1-for-more-information-or-to-register-please-contact-the-fti-training-office-617-524-0248-9/
LOCATION:Zoom (Online)
CATEGORIES:Health & Safety
ORGANIZER;CN="FTINE":MAILTO:class@ftine.edu
END:VEVENT
BEGIN:VEVENT
DTSTART;TZID=America/New_York:20250130T170000
DTEND;TZID=America/New_York:20250130T200000
DTSTAMP:20260423T041410
CREATED:20241219T151925Z
LAST-MODIFIED:20241219T153007Z
UID:6804-1738256400-1738267200@ftine.edu
SUMMARY:MEWP pt.2 For more information or to register\, please contact the FTI training office @ 617-524-0248.
DESCRIPTION:For more information or to register\, please contact the FTI training office @ 617-524-0248. \nMEWP pt.1\nMEWP pt.2\nMEWP Practical Exam
URL:https://ftine.edu/class/mewp-pt-2-for-more-information-or-to-register-please-contact-the-fti-training-office-617-524-0248-9/
LOCATION:Zoom (Online)
CATEGORIES:Health & Safety
ORGANIZER;CN="FTINE":MAILTO:class@ftine.edu
END:VEVENT
BEGIN:VEVENT
DTSTART;TZID=America/New_York:20250131T070000
DTEND;TZID=America/New_York:20250131T153000
DTSTAMP:20260423T041410
CREATED:20240826T140255Z
LAST-MODIFIED:20240826T143251Z
UID:6709-1738306800-1738337400@ftine.edu
SUMMARY:AMPP (C5) Please call Jeremy Allen to register @ 603-479-4379
DESCRIPTION:Please call Jeremy Allen to register @ 603-479-4379
URL:https://ftine.edu/class/ampp-c5-please-call-jeremy-allen-to-register-603-479-4379-4/
LOCATION:Brentwood NH Training Center\, 34 Commercial Dr.\, Brentwood\, NH\, 03833\, United States
CATEGORIES:Health & Safety,Journeyman Upgrade
ORGANIZER;CN="FTINE":MAILTO:class@ftine.edu
END:VEVENT
BEGIN:VEVENT
DTSTART;TZID=America/New_York:20250201T070000
DTEND;TZID=America/New_York:20250201T130000
DTSTAMP:20260423T041410
CREATED:20241219T151925Z
LAST-MODIFIED:20241219T153011Z
UID:6805-1738393200-1738414800@ftine.edu
SUMMARY:MEWP Practical Exam For more information or to register\, please contact the FTI training office @ 617-524-0248.
DESCRIPTION:For more information or to register\, please contact the FTI training office @ 617-524-0248. \nMEWP pt.1\nMEWP pt.2\nMEWP Practical Exam
URL:https://ftine.edu/class/mewp-practical-exam-for-more-information-or-to-register-please-contact-the-fti-training-office-617-524-0248-9/
LOCATION:Brentwood NH Training Center\, 34 Commercial Dr.\, Brentwood\, NH\, 03833\, United States
CATEGORIES:Health & Safety
ORGANIZER;CN="FTINE":MAILTO:class@ftine.edu
END:VEVENT
BEGIN:VEVENT
DTSTART;TZID=America/New_York:20250201T070000
DTEND;TZID=America/New_York:20250201T150000
DTSTAMP:20260423T041410
CREATED:20240813T211339Z
LAST-MODIFIED:20240813T211339Z
UID:6353-1738393200-1738422000@ftine.edu
SUMMARY:Year 2 Tapers
DESCRIPTION:
URL:https://ftine.edu/class/year-2-tapers-27/
LOCATION:Brentwood NH Training Center\, 34 Commercial Dr.\, Brentwood\, NH\, 03833\, United States
CATEGORIES:Drywall Finishing
ORGANIZER;CN="FTINE":MAILTO:class@ftine.edu
END:VEVENT
BEGIN:VEVENT
DTSTART;TZID=America/New_York:20250203T070000
DTEND;TZID=America/New_York:20250203T150000
DTSTAMP:20260423T041410
CREATED:20240813T211013Z
LAST-MODIFIED:20240813T211013Z
UID:6354-1738566000-1738594800@ftine.edu
SUMMARY:Year 1C PaintersTapers
DESCRIPTION:
URL:https://ftine.edu/class/year-1c-painterstapers/2025-02-03/
LOCATION:Brentwood NH Training Center\, 34 Commercial Dr.\, Brentwood\, NH\, 03833\, United States
CATEGORIES:Drywall Finishing,Painting
ORGANIZER;CN="FTINE":MAILTO:class@ftine.edu
END:VEVENT
BEGIN:VEVENT
DTSTART;TZID=America/New_York:20250203T070000
DTEND;TZID=America/New_York:20250203T150000
DTSTAMP:20260423T041410
CREATED:20240813T211043Z
LAST-MODIFIED:20240813T211043Z
UID:6355-1738566000-1738594800@ftine.edu
SUMMARY:Year 2A Glaziers
DESCRIPTION:
URL:https://ftine.edu/class/year-2a-glaziers-6/2025-02-03/
LOCATION:Brentwood NH Training Center\, 34 Commercial Dr.\, Brentwood\, NH\, 03833\, United States
CATEGORIES:Glazing
ORGANIZER;CN="FTINE":MAILTO:class@ftine.edu
END:VEVENT
BEGIN:VEVENT
DTSTART;TZID=America/New_York:20250203T070000
DTEND;TZID=America/New_York:20250203T150000
DTSTAMP:20260423T041410
CREATED:20240813T211111Z
LAST-MODIFIED:20240813T211111Z
UID:6356-1738566000-1738594800@ftine.edu
SUMMARY:Year 2B Industrial Painters
DESCRIPTION:
URL:https://ftine.edu/class/year-2b-industrial-painters-3/2025-02-03/
LOCATION:Brentwood NH Training Center\, 34 Commercial Dr.\, Brentwood\, NH\, 03833\, United States
CATEGORIES:Industrial Painting
ORGANIZER;CN="FTINE":MAILTO:class@ftine.edu
END:VEVENT
BEGIN:VEVENT
DTSTART;TZID=America/New_York:20250204T070000
DTEND;TZID=America/New_York:20250204T150000
DTSTAMP:20260423T041410
CREATED:20240813T211013Z
LAST-MODIFIED:20240813T211013Z
UID:6520-1738652400-1738681200@ftine.edu
SUMMARY:Year 1C PaintersTapers
DESCRIPTION:
URL:https://ftine.edu/class/year-1c-painterstapers/2025-02-04/
LOCATION:Brentwood NH Training Center\, 34 Commercial Dr.\, Brentwood\, NH\, 03833\, United States
CATEGORIES:Drywall Finishing,Painting
ORGANIZER;CN="FTINE":MAILTO:class@ftine.edu
END:VEVENT
BEGIN:VEVENT
DTSTART;TZID=America/New_York:20250204T070000
DTEND;TZID=America/New_York:20250204T150000
DTSTAMP:20260423T041410
CREATED:20240813T211043Z
LAST-MODIFIED:20240813T211043Z
UID:6525-1738652400-1738681200@ftine.edu
SUMMARY:Year 2A Glaziers
DESCRIPTION:
URL:https://ftine.edu/class/year-2a-glaziers-6/2025-02-04/
LOCATION:Brentwood NH Training Center\, 34 Commercial Dr.\, Brentwood\, NH\, 03833\, United States
CATEGORIES:Glazing
ORGANIZER;CN="FTINE":MAILTO:class@ftine.edu
END:VEVENT
BEGIN:VEVENT
DTSTART;TZID=America/New_York:20250204T070000
DTEND;TZID=America/New_York:20250204T150000
DTSTAMP:20260423T041410
CREATED:20240813T211111Z
LAST-MODIFIED:20240813T211111Z
UID:6530-1738652400-1738681200@ftine.edu
SUMMARY:Year 2B Industrial Painters
DESCRIPTION:
URL:https://ftine.edu/class/year-2b-industrial-painters-3/2025-02-04/
LOCATION:Brentwood NH Training Center\, 34 Commercial Dr.\, Brentwood\, NH\, 03833\, United States
CATEGORIES:Industrial Painting
ORGANIZER;CN="FTINE":MAILTO:class@ftine.edu
END:VEVENT
BEGIN:VEVENT
DTSTART;TZID=America/New_York:20250205T070000
DTEND;TZID=America/New_York:20250205T150000
DTSTAMP:20260423T041410
CREATED:20240813T211013Z
LAST-MODIFIED:20240813T211013Z
UID:6521-1738738800-1738767600@ftine.edu
SUMMARY:Year 1C PaintersTapers
DESCRIPTION:
URL:https://ftine.edu/class/year-1c-painterstapers/2025-02-05/
LOCATION:Brentwood NH Training Center\, 34 Commercial Dr.\, Brentwood\, NH\, 03833\, United States
CATEGORIES:Drywall Finishing,Painting
ORGANIZER;CN="FTINE":MAILTO:class@ftine.edu
END:VEVENT
BEGIN:VEVENT
DTSTART;TZID=America/New_York:20250205T070000
DTEND;TZID=America/New_York:20250205T150000
DTSTAMP:20260423T041410
CREATED:20240813T211043Z
LAST-MODIFIED:20240813T211043Z
UID:6526-1738738800-1738767600@ftine.edu
SUMMARY:Year 2A Glaziers
DESCRIPTION:
URL:https://ftine.edu/class/year-2a-glaziers-6/2025-02-05/
LOCATION:Brentwood NH Training Center\, 34 Commercial Dr.\, Brentwood\, NH\, 03833\, United States
CATEGORIES:Glazing
ORGANIZER;CN="FTINE":MAILTO:class@ftine.edu
END:VEVENT
BEGIN:VEVENT
DTSTART;TZID=America/New_York:20250205T070000
DTEND;TZID=America/New_York:20250205T150000
DTSTAMP:20260423T041410
CREATED:20240813T211111Z
LAST-MODIFIED:20240813T211111Z
UID:6531-1738738800-1738767600@ftine.edu
SUMMARY:Year 2B Industrial Painters
DESCRIPTION:
URL:https://ftine.edu/class/year-2b-industrial-painters-3/2025-02-05/
LOCATION:Brentwood NH Training Center\, 34 Commercial Dr.\, Brentwood\, NH\, 03833\, United States
CATEGORIES:Industrial Painting
ORGANIZER;CN="FTINE":MAILTO:class@ftine.edu
END:VEVENT
BEGIN:VEVENT
DTSTART;TZID=America/New_York:20250206T070000
DTEND;TZID=America/New_York:20250206T150000
DTSTAMP:20260423T041410
CREATED:20240813T211013Z
LAST-MODIFIED:20240813T211013Z
UID:6522-1738825200-1738854000@ftine.edu
SUMMARY:Year 1C PaintersTapers
DESCRIPTION:
URL:https://ftine.edu/class/year-1c-painterstapers/2025-02-06/
LOCATION:Brentwood NH Training Center\, 34 Commercial Dr.\, Brentwood\, NH\, 03833\, United States
CATEGORIES:Drywall Finishing,Painting
ORGANIZER;CN="FTINE":MAILTO:class@ftine.edu
END:VEVENT
BEGIN:VEVENT
DTSTART;TZID=America/New_York:20250206T070000
DTEND;TZID=America/New_York:20250206T150000
DTSTAMP:20260423T041410
CREATED:20240813T211043Z
LAST-MODIFIED:20240813T211043Z
UID:6527-1738825200-1738854000@ftine.edu
SUMMARY:Year 2A Glaziers
DESCRIPTION:
URL:https://ftine.edu/class/year-2a-glaziers-6/2025-02-06/
LOCATION:Brentwood NH Training Center\, 34 Commercial Dr.\, Brentwood\, NH\, 03833\, United States
CATEGORIES:Glazing
ORGANIZER;CN="FTINE":MAILTO:class@ftine.edu
END:VEVENT
BEGIN:VEVENT
DTSTART;TZID=America/New_York:20250206T070000
DTEND;TZID=America/New_York:20250206T150000
DTSTAMP:20260423T041410
CREATED:20240813T211111Z
LAST-MODIFIED:20240813T211111Z
UID:6532-1738825200-1738854000@ftine.edu
SUMMARY:Year 2B Industrial Painters
DESCRIPTION:
URL:https://ftine.edu/class/year-2b-industrial-painters-3/2025-02-06/
LOCATION:Brentwood NH Training Center\, 34 Commercial Dr.\, Brentwood\, NH\, 03833\, United States
CATEGORIES:Industrial Painting
ORGANIZER;CN="FTINE":MAILTO:class@ftine.edu
END:VEVENT
BEGIN:VEVENT
DTSTART;TZID=America/New_York:20250207T070000
DTEND;TZID=America/New_York:20250207T150000
DTSTAMP:20260423T041410
CREATED:20240813T211013Z
LAST-MODIFIED:20240813T211013Z
UID:6523-1738911600-1738940400@ftine.edu
SUMMARY:Year 1C PaintersTapers
DESCRIPTION:
URL:https://ftine.edu/class/year-1c-painterstapers/2025-02-07/
LOCATION:Brentwood NH Training Center\, 34 Commercial Dr.\, Brentwood\, NH\, 03833\, United States
CATEGORIES:Drywall Finishing,Painting
ORGANIZER;CN="FTINE":MAILTO:class@ftine.edu
END:VEVENT
BEGIN:VEVENT
DTSTART;TZID=America/New_York:20250207T070000
DTEND;TZID=America/New_York:20250207T150000
DTSTAMP:20260423T041410
CREATED:20240813T211043Z
LAST-MODIFIED:20240813T211043Z
UID:6528-1738911600-1738940400@ftine.edu
SUMMARY:Year 2A Glaziers
DESCRIPTION:
URL:https://ftine.edu/class/year-2a-glaziers-6/2025-02-07/
LOCATION:Brentwood NH Training Center\, 34 Commercial Dr.\, Brentwood\, NH\, 03833\, United States
CATEGORIES:Glazing
ORGANIZER;CN="FTINE":MAILTO:class@ftine.edu
END:VEVENT
END:VCALENDAR