BEGIN:VCALENDAR
VERSION:2.0
PRODID:-//Finishing Trades Institute of New England - ECPv6.15.20//NONSGML v1.0//EN
CALSCALE:GREGORIAN
METHOD:PUBLISH
X-WR-CALNAME:Finishing Trades Institute of New England
X-ORIGINAL-URL:https://ftine.edu
X-WR-CALDESC:Events for Finishing Trades Institute of New England
REFRESH-INTERVAL;VALUE=DURATION:PT1H
X-Robots-Tag:noindex
X-PUBLISHED-TTL:PT1H
BEGIN:VTIMEZONE
TZID:America/New_York
BEGIN:DAYLIGHT
TZOFFSETFROM:-0500
TZOFFSETTO:-0400
TZNAME:EDT
DTSTART:20220313T070000
END:DAYLIGHT
BEGIN:STANDARD
TZOFFSETFROM:-0400
TZOFFSETTO:-0500
TZNAME:EST
DTSTART:20221106T060000
END:STANDARD
BEGIN:DAYLIGHT
TZOFFSETFROM:-0500
TZOFFSETTO:-0400
TZNAME:EDT
DTSTART:20230312T070000
END:DAYLIGHT
BEGIN:STANDARD
TZOFFSETFROM:-0400
TZOFFSETTO:-0500
TZNAME:EST
DTSTART:20231105T060000
END:STANDARD
BEGIN:DAYLIGHT
TZOFFSETFROM:-0500
TZOFFSETTO:-0400
TZNAME:EDT
DTSTART:20240310T070000
END:DAYLIGHT
BEGIN:STANDARD
TZOFFSETFROM:-0400
TZOFFSETTO:-0500
TZNAME:EST
DTSTART:20241103T060000
END:STANDARD
END:VTIMEZONE
BEGIN:VEVENT
DTSTART;TZID=America/New_York:20230501T170000
DTEND;TZID=America/New_York:20230501T190000
DTSTAMP:20260422T042240
CREATED:20230321T174134Z
LAST-MODIFIED:20230323T204327Z
UID:2852-1682960400-1682967600@ftine.edu
SUMMARY:AGMT Written and Recert Exam To register for this class\, please call Sean Love 774-540-3007
DESCRIPTION:To register for this class\, please call Sean Love 774-540-3007
URL:https://ftine.edu/class/agmt-written-and-recert-exam/
LOCATION:Boston MA Training Center\, 25 Colgate Rd\, Roslindale\, MA\, 02131\, United States
CATEGORIES:Health & Safety
ORGANIZER;CN="FTINE":MAILTO:class@ftine.edu
END:VEVENT
BEGIN:VEVENT
DTSTART;TZID=America/New_York:20230503T170000
DTEND;TZID=America/New_York:20230503T190000
DTSTAMP:20260422T042240
CREATED:20230321T174444Z
LAST-MODIFIED:20230420T140644Z
UID:2853-1683133200-1683140400@ftine.edu
SUMMARY:MEWP pt.1
DESCRIPTION:MEWP pt. 2 \nMEWP Practical Exam
URL:https://ftine.edu/class/mewp-pt-1-14/
LOCATION:Zoom (Online)
CATEGORIES:Health & Safety
ORGANIZER;CN="FTINE":MAILTO:class@ftine.edu
END:VEVENT
BEGIN:VEVENT
DTSTART;TZID=America/New_York:20230504T170000
DTEND;TZID=America/New_York:20230504T190000
DTSTAMP:20260422T042240
CREATED:20230321T174448Z
LAST-MODIFIED:20230420T140728Z
UID:2854-1683219600-1683226800@ftine.edu
SUMMARY:MEWP pt.2
DESCRIPTION:MEWP pt. 1 \nMEWP Practical Exam
URL:https://ftine.edu/class/mewp-pt-2-14/
LOCATION:Zoom (Online)
CATEGORIES:Health & Safety
ORGANIZER;CN="FTINE":MAILTO:class@ftine.edu
END:VEVENT
BEGIN:VEVENT
DTSTART;TZID=America/New_York:20230506T070000
DTEND;TZID=America/New_York:20230506T150000
DTSTAMP:20260422T042240
CREATED:20230321T174454Z
LAST-MODIFIED:20230420T140809Z
UID:2855-1683356400-1683385200@ftine.edu
SUMMARY:MEWP Practical Exam
DESCRIPTION:MEWP pt. 1 \nMEWP pt. 2
URL:https://ftine.edu/class/mewp-practical-exam-9/
LOCATION:Brentwood NH Training Center\, 34 Commercial Dr.\, Brentwood\, NH\, 03833\, United States
CATEGORIES:Health & Safety
ORGANIZER;CN="FTINE":MAILTO:class@ftine.edu
END:VEVENT
BEGIN:VEVENT
DTSTART;TZID=America/New_York:20230506T080000
DTEND;TZID=America/New_York:20230506T100000
DTSTAMP:20260422T042240
CREATED:20230321T172456Z
LAST-MODIFIED:20230321T172456Z
UID:2856-1683360000-1683367200@ftine.edu
SUMMARY:PFT
DESCRIPTION:
URL:https://ftine.edu/class/pft-29/
LOCATION:Springfield MA Training Center\, 33 Eastland Street\, Springfield\, MA\, 01109\, United States
CATEGORIES:Health & Safety
ORGANIZER;CN="FTINE":MAILTO:class@ftine.edu
END:VEVENT
BEGIN:VEVENT
DTSTART;TZID=America/New_York:20230508T070000
DTEND;TZID=America/New_York:20230512T153000
DTSTAMP:20260422T042240
CREATED:20220822T153244Z
LAST-MODIFIED:20220822T154941Z
UID:1910-1683529200-1683905400@ftine.edu
SUMMARY:2nd Yr Glaziers Group "B"
DESCRIPTION:
URL:https://ftine.edu/class/2nd-yr-glaziers-group-b-4/
LOCATION:Brentwood NH Training Center\, 34 Commercial Dr.\, Brentwood\, NH\, 03833\, United States
CATEGORIES:Glazing
ORGANIZER;CN="FTINE":MAILTO:class@ftine.edu
END:VEVENT
BEGIN:VEVENT
DTSTART;TZID=America/New_York:20230508T150000
DTEND;TZID=America/New_York:20230508T190000
DTSTAMP:20260422T042240
CREATED:20230412T132729Z
LAST-MODIFIED:20230412T132848Z
UID:3312-1683558000-1683572400@ftine.edu
SUMMARY:Hoisting\, Continuing Ed.
DESCRIPTION:
URL:https://ftine.edu/class/hoisting-continuing-ed-9/
LOCATION:Boston MA Training Center\, 25 Colgate Rd\, Roslindale\, MA\, 02131\, United States
ORGANIZER;CN="FTINE":MAILTO:class@ftine.edu
END:VEVENT
BEGIN:VEVENT
DTSTART;TZID=America/New_York:20230509T150000
DTEND;TZID=America/New_York:20230509T190000
DTSTAMP:20260422T042240
CREATED:20230321T172500Z
LAST-MODIFIED:20230321T172500Z
UID:2857-1683644400-1683658800@ftine.edu
SUMMARY:PFT
DESCRIPTION:
URL:https://ftine.edu/class/pft-30/
LOCATION:Brentwood NH Training Center\, 34 Commercial Dr.\, Brentwood\, NH\, 03833\, United States
CATEGORIES:Health & Safety
ORGANIZER;CN="FTINE":MAILTO:class@ftine.edu
END:VEVENT
BEGIN:VEVENT
DTSTART;TZID=America/New_York:20230509T150000
DTEND;TZID=America/New_York:20230509T190000
DTSTAMP:20260422T042240
CREATED:20230321T174647Z
LAST-MODIFIED:20230321T174647Z
UID:2858-1683644400-1683658800@ftine.edu
SUMMARY:Hoisting\, Continuing ED
DESCRIPTION:
URL:https://ftine.edu/class/hoisting-continuing-ed-6/
LOCATION:Brentwood NH Training Center\, 34 Commercial Dr.\, Brentwood\, NH\, 03833\, United States
CATEGORIES:Health & Safety
ORGANIZER;CN="FTINE":MAILTO:class@ftine.edu
END:VEVENT
BEGIN:VEVENT
DTSTART;TZID=America/New_York:20230513T070000
DTEND;TZID=America/New_York:20230513T113000
DTSTAMP:20260422T042240
CREATED:20230321T174707Z
LAST-MODIFIED:20230321T174707Z
UID:2859-1683961200-1683977400@ftine.edu
SUMMARY:Heat Stress
DESCRIPTION:
URL:https://ftine.edu/class/heat-stress-2/
LOCATION:New Bedford MA Training Center\, 554 Pleasant Street\, New Bedford\, MA\, 02740\, United States
CATEGORIES:Health & Safety
ORGANIZER;CN="FTINE":MAILTO:class@ftine.edu
END:VEVENT
BEGIN:VEVENT
DTSTART;TZID=America/New_York:20230513T070000
DTEND;TZID=America/New_York:20230513T150000
DTSTAMP:20260422T042240
CREATED:20230321T171556Z
LAST-MODIFIED:20230404T171520Z
UID:2860-1683961200-1683990000@ftine.edu
SUMMARY:CPR & First AId
DESCRIPTION:
URL:https://ftine.edu/class/cpr-first-aid-6/
LOCATION:Boston MA Training Center\, 25 Colgate Rd\, Roslindale\, MA\, 02131\, United States
CATEGORIES:Health & Safety
ORGANIZER;CN="FTINE":MAILTO:class@ftine.edu
END:VEVENT
BEGIN:VEVENT
DTSTART;TZID=America/New_York:20230515T070000
DTEND;TZID=America/New_York:20230519T153000
DTSTAMP:20260422T042240
CREATED:20220822T153259Z
LAST-MODIFIED:20220822T154950Z
UID:1911-1684134000-1684510200@ftine.edu
SUMMARY:3rd Yr Glaziers Group "A"
DESCRIPTION:
URL:https://ftine.edu/class/3rd-yr-glaziers-group-a-4/
LOCATION:Brentwood NH Training Center\, 34 Commercial Dr.\, Brentwood\, NH\, 03833\, United States
CATEGORIES:Glazing
ORGANIZER;CN="FTINE":MAILTO:class@ftine.edu
END:VEVENT
BEGIN:VEVENT
DTSTART;TZID=America/New_York:20230517T170000
DTEND;TZID=America/New_York:20230517T190000
DTSTAMP:20260422T042240
CREATED:20230321T174725Z
LAST-MODIFIED:20230404T195030Z
UID:2861-1684342800-1684350000@ftine.edu
SUMMARY:Labor History
DESCRIPTION:
URL:https://ftine.edu/class/labor-history-16/
LOCATION:Zoom (Online)
CATEGORIES:Health & Safety
ORGANIZER;CN="FTINE":MAILTO:class@ftine.edu
END:VEVENT
BEGIN:VEVENT
DTSTART;TZID=America/New_York:20230520T070000
DTEND;TZID=America/New_York:20230520T113000
DTSTAMP:20260422T042240
CREATED:20230321T174821Z
LAST-MODIFIED:20230509T144957Z
UID:2862-1684566000-1684582200@ftine.edu
SUMMARY:Heat Stress
DESCRIPTION:
URL:https://ftine.edu/class/heat-stress-3/
LOCATION:Boston MA Training Center\, 25 Colgate Rd\, Roslindale\, MA\, 02131\, United States
CATEGORIES:Health & Safety
ORGANIZER;CN="FTINE":MAILTO:class@ftine.edu
END:VEVENT
BEGIN:VEVENT
DTSTART;TZID=America/New_York:20230520T113000
DTEND;TZID=America/New_York:20230520T150000
DTSTAMP:20260422T042240
CREATED:20230321T174836Z
LAST-MODIFIED:20230321T174836Z
UID:2863-1684582200-1684594800@ftine.edu
SUMMARY:PCB Awareness
DESCRIPTION:
URL:https://ftine.edu/class/pcb-awareness-5/
LOCATION:Boston MA Training Center\, 25 Colgate Rd\, Roslindale\, MA\, 02131\, United States
CATEGORIES:Health & Safety
ORGANIZER;CN="FTINE":MAILTO:class@ftine.edu
END:VEVENT
BEGIN:VEVENT
DTSTART;TZID=America/New_York:20230523T170000
DTEND;TZID=America/New_York:20230523T190000
DTSTAMP:20260422T042240
CREATED:20230321T174858Z
LAST-MODIFIED:20230425T151929Z
UID:2864-1684861200-1684868400@ftine.edu
SUMMARY:1926.62 OSHA Lead
DESCRIPTION:
URL:https://ftine.edu/class/1926-62-osha-lead-7/
LOCATION:Zoom (Online)
CATEGORIES:Health & Safety
ORGANIZER;CN="FTINE":MAILTO:class@ftine.edu
END:VEVENT
BEGIN:VEVENT
DTSTART;TZID=America/New_York:20230524T170000
DTEND;TZID=America/New_York:20230524T190000
DTSTAMP:20260422T042240
CREATED:20230321T173608Z
LAST-MODIFIED:20230323T204319Z
UID:2865-1684947600-1684954800@ftine.edu
SUMMARY:AGMT Prep pt.2 To register for this class\, please call Sean Love 774-540-3007
DESCRIPTION:AGMT Prep pt.1 \nAGMT Practical Exam \nTo register for this class\, please call Sean Love 774-540-3007
URL:https://ftine.edu/class/agmt-prep-pt-2-3/
LOCATION:Brentwood NH Training Center\, 34 Commercial Dr.\, Brentwood\, NH\, 03833\, United States
CATEGORIES:Health & Safety
ORGANIZER;CN="FTINE":MAILTO:class@ftine.edu
END:VEVENT
BEGIN:VEVENT
DTSTART;TZID=America/New_York:20230525T170000
DTEND;TZID=America/New_York:20230525T190000
DTSTAMP:20260422T042240
CREATED:20230321T171845Z
LAST-MODIFIED:20230407T122610Z
UID:2866-1685034000-1685041200@ftine.edu
SUMMARY:Sexual Harassment
DESCRIPTION:
URL:https://ftine.edu/class/sexual-harassment-12/
LOCATION:Zoom (Online)
CATEGORIES:Health & Safety
ORGANIZER;CN="FTINE":MAILTO:class@ftine.edu
END:VEVENT
BEGIN:VEVENT
DTSTART;TZID=America/New_York:20230527T080000
DTEND;TZID=America/New_York:20230527T120000
DTSTAMP:20260422T042240
CREATED:20230321T172506Z
LAST-MODIFIED:20230321T172506Z
UID:2868-1685174400-1685188800@ftine.edu
SUMMARY:PFT
DESCRIPTION:
URL:https://ftine.edu/class/pft-31/
LOCATION:Boston MA Training Center\, 25 Colgate Rd\, Roslindale\, MA\, 02131\, United States
CATEGORIES:Health & Safety
ORGANIZER;CN="FTINE":MAILTO:class@ftine.edu
END:VEVENT
BEGIN:VEVENT
DTSTART;TZID=America/New_York:20230527T080000
DTEND;TZID=America/New_York:20230527T120000
DTSTAMP:20260422T042240
CREATED:20230321T174913Z
LAST-MODIFIED:20230525T134059Z
UID:2867-1685174400-1685188800@ftine.edu
SUMMARY:Hoisting\, Continuing ED
DESCRIPTION:
URL:https://ftine.edu/class/hoisting-continuing-ed-7/
LOCATION:Boston MA Training Center\, 25 Colgate Rd\, Roslindale\, MA\, 02131\, United States
CATEGORIES:Health & Safety
ORGANIZER;CN="FTINE":MAILTO:class@ftine.edu
END:VEVENT
BEGIN:VEVENT
DTSTART;TZID=America/New_York:20230531T170000
DTEND;TZID=America/New_York:20230531T190000
DTSTAMP:20260422T042240
CREATED:20230321T175732Z
LAST-MODIFIED:20230420T143033Z
UID:2869-1685552400-1685559600@ftine.edu
SUMMARY:MEWP pt.1
DESCRIPTION:MEWP pt. 2 \nMEWP Practical Exam
URL:https://ftine.edu/class/mewp-pt-1-15/
LOCATION:Zoom (Online)
CATEGORIES:Health & Safety
ORGANIZER;CN="FTINE":MAILTO:class@ftine.edu
END:VEVENT
END:VCALENDAR