BEGIN:VCALENDAR
VERSION:2.0
PRODID:-//Finishing Trades Institute of New England - ECPv6.15.20//NONSGML v1.0//EN
CALSCALE:GREGORIAN
METHOD:PUBLISH
X-ORIGINAL-URL:https://ftine.edu
X-WR-CALDESC:Events for Finishing Trades Institute of New England
REFRESH-INTERVAL;VALUE=DURATION:PT1H
X-Robots-Tag:noindex
X-PUBLISHED-TTL:PT1H
BEGIN:VTIMEZONE
TZID:America/New_York
BEGIN:DAYLIGHT
TZOFFSETFROM:-0500
TZOFFSETTO:-0400
TZNAME:EDT
DTSTART:20250309T070000
END:DAYLIGHT
BEGIN:STANDARD
TZOFFSETFROM:-0400
TZOFFSETTO:-0500
TZNAME:EST
DTSTART:20251102T060000
END:STANDARD
BEGIN:DAYLIGHT
TZOFFSETFROM:-0500
TZOFFSETTO:-0400
TZNAME:EDT
DTSTART:20260308T070000
END:DAYLIGHT
BEGIN:STANDARD
TZOFFSETFROM:-0400
TZOFFSETTO:-0500
TZNAME:EST
DTSTART:20261101T060000
END:STANDARD
BEGIN:DAYLIGHT
TZOFFSETFROM:-0500
TZOFFSETTO:-0400
TZNAME:EDT
DTSTART:20270314T070000
END:DAYLIGHT
BEGIN:STANDARD
TZOFFSETFROM:-0400
TZOFFSETTO:-0500
TZNAME:EST
DTSTART:20271107T060000
END:STANDARD
END:VTIMEZONE
BEGIN:VEVENT
DTSTART;TZID=America/New_York:20260501T070000
DTEND;TZID=America/New_York:20260501T150000
DTSTAMP:20260424T043052
CREATED:20251001T203705Z
LAST-MODIFIED:20251001T203705Z
UID:7637-1777618800-1777647600@ftine.edu
SUMMARY:2nd Year Glaziers Group A
DESCRIPTION:Please call Sean Love at 774-540-3007 if you have any questions
URL:https://ftine.edu/class/2nd-year-glaziers-group-a-15/
LOCATION:Lowell MA Training Center\, 120 Stedman St.\, Lowell\, MA\, 01851\, United States
CATEGORIES:Apprenticeship,Glazing
ORGANIZER;CN="FTINE":MAILTO:class@ftine.edu
END:VEVENT
BEGIN:VEVENT
DTSTART;TZID=America/New_York:20260501T070000
DTEND;TZID=America/New_York:20260501T150000
DTSTAMP:20260424T043052
CREATED:20251001T203720Z
LAST-MODIFIED:20251001T203720Z
UID:7638-1777618800-1777647600@ftine.edu
SUMMARY:2nd Year Painters - Group A
DESCRIPTION:Please call Tim Traynor at 617-406-8065 if you have any questions
URL:https://ftine.edu/class/2nd-year-painters-group-a-20/
LOCATION:MA
CATEGORIES:Apprenticeship,Painting
ORGANIZER;CN="FTINE":MAILTO:class@ftine.edu
END:VEVENT
BEGIN:VEVENT
DTSTART;TZID=America/New_York:20260502T080000
DTEND;TZID=America/New_York:20260502T120000
DTSTAMP:20260424T043052
CREATED:20260317T170336Z
LAST-MODIFIED:20260317T170336Z
UID:8078-1777708800-1777723200@ftine.edu
SUMMARY:Medical Clearance/Respirator Fit - For more information or to register\, please contact the FTI training office @ 617-524-0248
DESCRIPTION:For more information or to register\, please contact the FTI training office @ 617-524-0248 \n**** New STAR requirements ****\nPFT is no longer a requirement for STAR 2026 and there will be no classes called PFT in the Health and Safety calendar. We will now offer Medical Clearance/Respirator Fit testing for the members that do need it for work\, it is not mandatory for STAR. You MUST be clean shaven in order to participate.Any two in-person classes that the FTI of New England offers will qualify a member to be eligible for STAR 2026.
URL:https://ftine.edu/class/medical-clearance-respirator-fit-for-more-information-or-to-register-please-contact-the-fti-training-office-617-524-0248-2/2026-05-02/
LOCATION:Lowell MA Training Center\, 120 Stedman St.\, Lowell\, MA\, 01851\, United States
CATEGORIES:Health & Safety
ORGANIZER;CN="FTINE":MAILTO:class@ftine.edu
END:VEVENT
BEGIN:VEVENT
DTSTART;TZID=America/New_York:20260504T070000
DTEND;TZID=America/New_York:20260504T150000
DTSTAMP:20260424T043052
CREATED:20251001T203720Z
LAST-MODIFIED:20251001T203720Z
UID:7639-1777878000-1777906800@ftine.edu
SUMMARY:2nd Year Painters - Group B
DESCRIPTION:Please call Tim Traynor at 617-406-8065 if you have any questions
URL:https://ftine.edu/class/2nd-year-painters-group-b-16/
LOCATION:MA
CATEGORIES:Apprenticeship,Painting
ORGANIZER;CN="FTINE":MAILTO:class@ftine.edu
END:VEVENT
BEGIN:VEVENT
DTSTART;TZID=America/New_York:20260505T070000
DTEND;TZID=America/New_York:20260505T150000
DTSTAMP:20260424T043052
CREATED:20251001T203720Z
LAST-MODIFIED:20251001T203720Z
UID:7640-1777964400-1777993200@ftine.edu
SUMMARY:2nd Year Painters - Group B
DESCRIPTION:Please call Tim Traynor at 617-406-8065 if you have any questions
URL:https://ftine.edu/class/2nd-year-painters-group-b-17/
LOCATION:MA
CATEGORIES:Apprenticeship,Painting
ORGANIZER;CN="FTINE":MAILTO:class@ftine.edu
END:VEVENT
BEGIN:VEVENT
DTSTART;TZID=America/New_York:20260506T070000
DTEND;TZID=America/New_York:20260506T150000
DTSTAMP:20260424T043052
CREATED:20251001T203720Z
LAST-MODIFIED:20251001T203720Z
UID:7641-1778050800-1778079600@ftine.edu
SUMMARY:2nd Year Painters - Group B
DESCRIPTION:Please call Tim Traynor at 617-406-8065 if you have any questions
URL:https://ftine.edu/class/2nd-year-painters-group-b-18/
LOCATION:MA
CATEGORIES:Apprenticeship,Painting
ORGANIZER;CN="FTINE":MAILTO:class@ftine.edu
END:VEVENT
BEGIN:VEVENT
DTSTART;TZID=America/New_York:20260506T153000
DTEND;TZID=America/New_York:20260506T193000
DTSTAMP:20260424T043052
CREATED:20260317T145453Z
LAST-MODIFIED:20260317T145550Z
UID:7999-1778081400-1778095800@ftine.edu
SUMMARY:Hoisting\, Continuing Ed.
DESCRIPTION:For more information or to register\, please contact the FTI training office @ 617-524-0248.
URL:https://ftine.edu/class/hoisting-continuing-ed-30/2026-05-06/
LOCATION:Brentwood NH Training Center\, 34 Commercial Dr.\, Brentwood\, NH\, 03833\, United States
CATEGORIES:Health & Safety
ORGANIZER;CN="FTINE":MAILTO:class@ftine.edu
END:VEVENT
BEGIN:VEVENT
DTSTART;TZID=America/New_York:20260507T070000
DTEND;TZID=America/New_York:20260507T150000
DTSTAMP:20260424T043052
CREATED:20251001T203720Z
LAST-MODIFIED:20251001T203720Z
UID:7642-1778137200-1778166000@ftine.edu
SUMMARY:2nd Year Painters - Group B
DESCRIPTION:Please call Tim Traynor at 617-406-8065 if you have any questions
URL:https://ftine.edu/class/2nd-year-painters-group-b-19/
LOCATION:MA
CATEGORIES:Apprenticeship,Painting
ORGANIZER;CN="FTINE":MAILTO:class@ftine.edu
END:VEVENT
BEGIN:VEVENT
DTSTART;TZID=America/New_York:20260508T070000
DTEND;TZID=America/New_York:20260508T150000
DTSTAMP:20260424T043052
CREATED:20251001T203735Z
LAST-MODIFIED:20251001T203735Z
UID:7643-1778223600-1778252400@ftine.edu
SUMMARY:2nd Year Painters - Group B
DESCRIPTION:Please call Tim Traynor at 617-406-8065 if you have any questions
URL:https://ftine.edu/class/2nd-year-painters-group-b-20/
LOCATION:MA
CATEGORIES:Apprenticeship,Painting
ORGANIZER;CN="FTINE":MAILTO:class@ftine.edu
END:VEVENT
BEGIN:VEVENT
DTSTART;TZID=America/New_York:20260511T070000
DTEND;TZID=America/New_York:20260511T150000
DTSTAMP:20260424T043052
CREATED:20251001T203735Z
LAST-MODIFIED:20251001T203735Z
UID:7644-1778482800-1778511600@ftine.edu
SUMMARY:2nd Year Glaziers Group B
DESCRIPTION:Please call Sean Love at 774-540-3007 if you have any questions
URL:https://ftine.edu/class/2nd-year-glaziers-group-b-16/
LOCATION:Lowell MA Training Center\, 120 Stedman St.\, Lowell\, MA\, 01851\, United States
CATEGORIES:Apprenticeship,Glazing
ORGANIZER;CN="FTINE":MAILTO:class@ftine.edu
END:VEVENT
BEGIN:VEVENT
DTSTART;TZID=America/New_York:20260512T070000
DTEND;TZID=America/New_York:20260512T150000
DTSTAMP:20260424T043052
CREATED:20251001T203735Z
LAST-MODIFIED:20251001T203735Z
UID:7645-1778569200-1778598000@ftine.edu
SUMMARY:2nd Year Glaziers Group B
DESCRIPTION:Please call Sean Love at 774-540-3007 if you have any questions
URL:https://ftine.edu/class/2nd-year-glaziers-group-b-17/
LOCATION:Lowell MA Training Center\, 120 Stedman St.\, Lowell\, MA\, 01851\, United States
CATEGORIES:Apprenticeship,Glazing
ORGANIZER;CN="FTINE":MAILTO:class@ftine.edu
END:VEVENT
BEGIN:VEVENT
DTSTART;TZID=America/New_York:20260513T070000
DTEND;TZID=America/New_York:20260513T150000
DTSTAMP:20260424T043052
CREATED:20251001T203735Z
LAST-MODIFIED:20251001T203735Z
UID:7646-1778655600-1778684400@ftine.edu
SUMMARY:2nd Year Glaziers Group B
DESCRIPTION:Please call Sean Love at 774-540-3007 if you have any questions
URL:https://ftine.edu/class/2nd-year-glaziers-group-b-18/
LOCATION:Lowell MA Training Center\, 120 Stedman St.\, Lowell\, MA\, 01851\, United States
CATEGORIES:Apprenticeship,Glazing
ORGANIZER;CN="FTINE":MAILTO:class@ftine.edu
END:VEVENT
BEGIN:VEVENT
DTSTART;TZID=America/New_York:20260513T170000
DTEND;TZID=America/New_York:20260513T200000
DTSTAMP:20260424T043052
CREATED:20260317T153021Z
LAST-MODIFIED:20260317T153625Z
UID:8048-1778691600-1778702400@ftine.edu
SUMMARY:MEWP pt.1 - For more information or to register\, please contact the FTI training office @ 617-524-0248
DESCRIPTION:For more information or to register\, please contact the FTI training office @ 617-524-0248. \nMEWP pt.1\nMEWP pt.2\nMEWP Practical Exam
URL:https://ftine.edu/class/mewp-pt-1-for-more-information-or-to-register-please-contact-the-fti-training-office-617-524-0248-15/
LOCATION:Zoom (Online)
CATEGORIES:Health & Safety
ORGANIZER;CN="FTINE":MAILTO:class@ftine.edu
END:VEVENT
BEGIN:VEVENT
DTSTART;TZID=America/New_York:20260514T070000
DTEND;TZID=America/New_York:20260514T150000
DTSTAMP:20260424T043052
CREATED:20251001T203735Z
LAST-MODIFIED:20251001T203735Z
UID:7647-1778742000-1778770800@ftine.edu
SUMMARY:2nd Year Glaziers Group B
DESCRIPTION:Please call Sean Love at 774-540-3007 if you have any questions
URL:https://ftine.edu/class/2nd-year-glaziers-group-b-19/
LOCATION:Lowell MA Training Center\, 120 Stedman St.\, Lowell\, MA\, 01851\, United States
CATEGORIES:Apprenticeship,Glazing
ORGANIZER;CN="FTINE":MAILTO:class@ftine.edu
END:VEVENT
BEGIN:VEVENT
DTSTART;TZID=America/New_York:20260514T170000
DTEND;TZID=America/New_York:20260514T200000
DTSTAMP:20260424T043052
CREATED:20260317T153143Z
LAST-MODIFIED:20260317T153633Z
UID:8050-1778778000-1778788800@ftine.edu
SUMMARY:MEWP pt.2 - For more information or to register\, please contact the FTI training office @ 617-524-0248
DESCRIPTION:For more information or to register\, please contact the FTI training office @ 617-524-0248. \nMEWP pt.1\nMEWP pt.2\nMEWP Practical Exam
URL:https://ftine.edu/class/mewp-pt-2-for-more-information-or-to-register-please-contact-the-fti-training-office-617-524-0248-15/
LOCATION:Zoom (Online)
CATEGORIES:Health & Safety
ORGANIZER;CN="FTINE":MAILTO:class@ftine.edu
END:VEVENT
BEGIN:VEVENT
DTSTART;TZID=America/New_York:20260515T070000
DTEND;TZID=America/New_York:20260515T150000
DTSTAMP:20260424T043052
CREATED:20251001T203750Z
LAST-MODIFIED:20251001T203750Z
UID:7648-1778828400-1778857200@ftine.edu
SUMMARY:2nd Year Glaziers Group B
DESCRIPTION:Please call Sean Love at 774-540-3007 if you have any questions
URL:https://ftine.edu/class/2nd-year-glaziers-group-b-20/
LOCATION:Lowell MA Training Center\, 120 Stedman St.\, Lowell\, MA\, 01851\, United States
CATEGORIES:Apprenticeship,Glazing
ORGANIZER;CN="FTINE":MAILTO:class@ftine.edu
END:VEVENT
BEGIN:VEVENT
DTSTART;TZID=America/New_York:20260516T070000
DTEND;TZID=America/New_York:20260516T110000
DTSTAMP:20260424T043052
CREATED:20260317T175602Z
LAST-MODIFIED:20260317T175602Z
UID:8085-1778914800-1778929200@ftine.edu
SUMMARY:Hearing Conservation
DESCRIPTION:Register for this class on https://unite.iupat.org/public/classes/20098
URL:https://ftine.edu/class/hearing-conservation-10/
LOCATION:Boston MA Training Center\, 25 Colgate Rd\, Roslindale\, MA\, 02131\, United States
CATEGORIES:Health & Safety
ORGANIZER;CN="FTINE":MAILTO:class@ftine.edu
END:VEVENT
BEGIN:VEVENT
DTSTART;TZID=America/New_York:20260516T070000
DTEND;TZID=America/New_York:20260516T140000
DTSTAMP:20260424T043052
CREATED:20260317T153357Z
LAST-MODIFIED:20260317T153641Z
UID:8053-1778914800-1778940000@ftine.edu
SUMMARY:MEWP Practical Exam - For more information or to register\, please contact the FTI training office @ 617-524-0248
DESCRIPTION:For more information or to register\, please contact the FTI training office @ 617-524-0248. \nMEWP pt.1\nMEWP pt.2\nMEWP Practical Exam
URL:https://ftine.edu/class/mewp-practical-exam-for-more-information-or-to-register-please-contact-the-fti-training-office-617-524-0248-15/
LOCATION:Brentwood NH Training Center\, 34 Commercial Dr.\, Brentwood\, NH\, 03833\, United States
CATEGORIES:Health & Safety
ORGANIZER;CN="FTINE":MAILTO:class@ftine.edu
END:VEVENT
BEGIN:VEVENT
DTSTART;TZID=America/New_York:20260516T110000
DTEND;TZID=America/New_York:20260516T150000
DTSTAMP:20260424T043052
CREATED:20260317T180137Z
LAST-MODIFIED:20260317T180137Z
UID:8087-1778929200-1778943600@ftine.edu
SUMMARY:Silica Awareness
DESCRIPTION:Register for this class on https://unite.iupat.org/public/classes/20098
URL:https://ftine.edu/class/silica-awareness-26/
LOCATION:Boston MA Training Center\, 25 Colgate Rd\, Roslindale\, MA\, 02131\, United States
CATEGORIES:Health & Safety
ORGANIZER;CN="FTINE":MAILTO:class@ftine.edu
END:VEVENT
BEGIN:VEVENT
DTSTART;TZID=America/New_York:20260518T070000
DTEND;TZID=America/New_York:20260518T150000
DTSTAMP:20260424T043052
CREATED:20251001T203750Z
LAST-MODIFIED:20251001T203750Z
UID:7649-1779087600-1779116400@ftine.edu
SUMMARY:3rd Year Glaziers Group A & B
DESCRIPTION:Please call Sean Love at 774-540-3007 if you have any questions
URL:https://ftine.edu/class/3rd-year-glaziers-group-a-b-6/
LOCATION:Lowell MA Training Center\, 120 Stedman St.\, Lowell\, MA\, 01851\, United States
CATEGORIES:Apprenticeship,Glazing
ORGANIZER;CN="FTINE":MAILTO:class@ftine.edu
END:VEVENT
BEGIN:VEVENT
DTSTART;TZID=America/New_York:20260518T070000
DTEND;TZID=America/New_York:20260518T150000
DTSTAMP:20260424T043052
CREATED:20251001T203751Z
LAST-MODIFIED:20251001T203751Z
UID:7650-1779087600-1779116400@ftine.edu
SUMMARY:3rd Year Painters and Tapers - Group A & B
DESCRIPTION:Please call Tim Traynor at 617-406-8065 if you have any questions
URL:https://ftine.edu/class/3rd-year-painters-and-tapers-group-a-b-6/
LOCATION:MA
CATEGORIES:Apprenticeship,Drywall Finishing,Painting
ORGANIZER;CN="FTINE":MAILTO:class@ftine.edu
END:VEVENT
BEGIN:VEVENT
DTSTART;TZID=America/New_York:20260519T070000
DTEND;TZID=America/New_York:20260519T150000
DTSTAMP:20260424T043052
CREATED:20251001T203751Z
LAST-MODIFIED:20251001T203751Z
UID:7651-1779174000-1779202800@ftine.edu
SUMMARY:3rd Year Glaziers Group A & B
DESCRIPTION:Please call Sean Love at 774-540-3007 if you have any questions
URL:https://ftine.edu/class/3rd-year-glaziers-group-a-b-7/
LOCATION:Lowell MA Training Center\, 120 Stedman St.\, Lowell\, MA\, 01851\, United States
CATEGORIES:Apprenticeship,Glazing
ORGANIZER;CN="FTINE":MAILTO:class@ftine.edu
END:VEVENT
BEGIN:VEVENT
DTSTART;TZID=America/New_York:20260519T070000
DTEND;TZID=America/New_York:20260519T150000
DTSTAMP:20260424T043052
CREATED:20251001T203751Z
LAST-MODIFIED:20251001T203751Z
UID:7652-1779174000-1779202800@ftine.edu
SUMMARY:3rd Year Painters and Tapers - Group A & B
DESCRIPTION:Please call Tim Traynor at 617-406-8065 if you have any questions
URL:https://ftine.edu/class/3rd-year-painters-and-tapers-group-a-b-7/
LOCATION:MA
CATEGORIES:Apprenticeship,Drywall Finishing,Painting
ORGANIZER;CN="FTINE":MAILTO:class@ftine.edu
END:VEVENT
BEGIN:VEVENT
DTSTART;TZID=America/New_York:20260520T070000
DTEND;TZID=America/New_York:20260520T150000
DTSTAMP:20260424T043052
CREATED:20251001T203805Z
LAST-MODIFIED:20251001T203805Z
UID:7653-1779260400-1779289200@ftine.edu
SUMMARY:3rd Year Glaziers Group A & B
DESCRIPTION:Please call Sean Love at 774-540-3007 if you have any questions
URL:https://ftine.edu/class/3rd-year-glaziers-group-a-b-8/
LOCATION:Lowell MA Training Center\, 120 Stedman St.\, Lowell\, MA\, 01851\, United States
CATEGORIES:Apprenticeship,Glazing
ORGANIZER;CN="FTINE":MAILTO:class@ftine.edu
END:VEVENT
BEGIN:VEVENT
DTSTART;TZID=America/New_York:20260520T070000
DTEND;TZID=America/New_York:20260520T150000
DTSTAMP:20260424T043052
CREATED:20251001T203805Z
LAST-MODIFIED:20251001T203805Z
UID:7654-1779260400-1779289200@ftine.edu
SUMMARY:3rd Year Painters and Tapers - Group A & B
DESCRIPTION:Please call Tim Traynor at 617-406-8065 if you have any questions
URL:https://ftine.edu/class/3rd-year-painters-and-tapers-group-a-b-8/
LOCATION:MA
CATEGORIES:Apprenticeship,Drywall Finishing,Painting
ORGANIZER;CN="FTINE":MAILTO:class@ftine.edu
END:VEVENT
BEGIN:VEVENT
DTSTART;TZID=America/New_York:20260521T070000
DTEND;TZID=America/New_York:20260521T150000
DTSTAMP:20260424T043052
CREATED:20251001T203805Z
LAST-MODIFIED:20251001T203805Z
UID:7655-1779346800-1779375600@ftine.edu
SUMMARY:3rd Year Glaziers Group A & B
DESCRIPTION:Please call Sean Love at 774-540-3007 if you have any questions
URL:https://ftine.edu/class/3rd-year-glaziers-group-a-b-9/
LOCATION:Lowell MA Training Center\, 120 Stedman St.\, Lowell\, MA\, 01851\, United States
CATEGORIES:Apprenticeship,Glazing
ORGANIZER;CN="FTINE":MAILTO:class@ftine.edu
END:VEVENT
BEGIN:VEVENT
DTSTART;TZID=America/New_York:20260521T070000
DTEND;TZID=America/New_York:20260521T150000
DTSTAMP:20260424T043052
CREATED:20251001T203805Z
LAST-MODIFIED:20251001T203805Z
UID:7656-1779346800-1779375600@ftine.edu
SUMMARY:3rd Year Painters and Tapers - Group A & B
DESCRIPTION:Please call Tim Traynor at 617-406-8065 if you have any questions
URL:https://ftine.edu/class/3rd-year-painters-and-tapers-group-a-b-9/
LOCATION:MA
CATEGORIES:Apprenticeship,Drywall Finishing,Painting
ORGANIZER;CN="FTINE":MAILTO:class@ftine.edu
END:VEVENT
BEGIN:VEVENT
DTSTART;TZID=America/New_York:20260521T153000
DTEND;TZID=America/New_York:20260521T193000
DTSTAMP:20260424T043052
CREATED:20260317T145847Z
LAST-MODIFIED:20260317T145847Z
UID:8005-1779377400-1779391800@ftine.edu
SUMMARY:Hoisting\, Continuing Ed.
DESCRIPTION:For more information or to register\, please contact the FTI training office @ 617-524-0248.
URL:https://ftine.edu/class/hoisting-continuing-ed-31/2026-05-21/
LOCATION:Lowell MA Training Center\, 120 Stedman St.\, Lowell\, MA\, 01851\, United States
CATEGORIES:Health & Safety
ORGANIZER;CN="FTINE":MAILTO:class@ftine.edu
END:VEVENT
BEGIN:VEVENT
DTSTART;TZID=America/New_York:20260522T070000
DTEND;TZID=America/New_York:20260522T150000
DTSTAMP:20260424T043052
CREATED:20251001T203805Z
LAST-MODIFIED:20251001T203805Z
UID:7657-1779433200-1779462000@ftine.edu
SUMMARY:3rd Year Glaziers Group A & B
DESCRIPTION:Please call Sean Love at 774-540-3007 if you have any questions
URL:https://ftine.edu/class/3rd-year-glaziers-group-a-b-10/
LOCATION:Lowell MA Training Center\, 120 Stedman St.\, Lowell\, MA\, 01851\, United States
CATEGORIES:Apprenticeship,Glazing
ORGANIZER;CN="FTINE":MAILTO:class@ftine.edu
END:VEVENT
BEGIN:VEVENT
DTSTART;TZID=America/New_York:20260522T070000
DTEND;TZID=America/New_York:20260522T150000
DTSTAMP:20260424T043052
CREATED:20251001T203820Z
LAST-MODIFIED:20251001T203820Z
UID:7658-1779433200-1779462000@ftine.edu
SUMMARY:3rd Year Painters and Tapers - Group A & B
DESCRIPTION:Please call Tim Traynor at 617-406-8065 if you have any questions
URL:https://ftine.edu/class/3rd-year-painters-and-tapers-group-a-b-10/
LOCATION:MA
CATEGORIES:Apprenticeship,Drywall Finishing,Painting
ORGANIZER;CN="FTINE":MAILTO:class@ftine.edu
END:VEVENT
END:VCALENDAR